BEGIN:VCALENDAR
VERSION:2.0
PRODID:-//Needham Local - ECPv6.15.20//NONSGML v1.0//EN
CALSCALE:GREGORIAN
METHOD:PUBLISH
X-WR-CALNAME:Needham Local
X-ORIGINAL-URL:https://needhamlocal.org
X-WR-CALDESC:Events for Needham Local
REFRESH-INTERVAL;VALUE=DURATION:PT1H
X-Robots-Tag:noindex
X-PUBLISHED-TTL:PT1H
BEGIN:VTIMEZONE
TZID:America/New_York
BEGIN:DAYLIGHT
TZOFFSETFROM:-0500
TZOFFSETTO:-0400
TZNAME:EDT
DTSTART:20240310T070000
END:DAYLIGHT
BEGIN:STANDARD
TZOFFSETFROM:-0400
TZOFFSETTO:-0500
TZNAME:EST
DTSTART:20241103T060000
END:STANDARD
BEGIN:DAYLIGHT
TZOFFSETFROM:-0500
TZOFFSETTO:-0400
TZNAME:EDT
DTSTART:20250309T070000
END:DAYLIGHT
BEGIN:STANDARD
TZOFFSETFROM:-0400
TZOFFSETTO:-0500
TZNAME:EST
DTSTART:20251102T060000
END:STANDARD
BEGIN:DAYLIGHT
TZOFFSETFROM:-0500
TZOFFSETTO:-0400
TZNAME:EDT
DTSTART:20260308T070000
END:DAYLIGHT
BEGIN:STANDARD
TZOFFSETFROM:-0400
TZOFFSETTO:-0500
TZNAME:EST
DTSTART:20261101T060000
END:STANDARD
END:VTIMEZONE
BEGIN:VEVENT
DTSTART;TZID=America/New_York:20250513T160000
DTEND;TZID=America/New_York:20250513T173000
DTSTAMP:20260422T192050
CREATED:20250327T181614Z
LAST-MODIFIED:20250501T201134Z
UID:10001501-1747152000-1747157400@needhamlocal.org
SUMMARY:Girls Varsity Lacrosse vs. Weymouth
DESCRIPTION:The Needham Channel is planning on covering this game for air on our Community\, Education and HD Channels later in the week. It also streams on the Needham Channel website and on the Needham Channel Roku app. Please keep in mind that our schedule may change based off of the tumultuous spring weather. You can stay tuned to the Needham Channel Sports feed on X (#TNC_Sports) for the latest information. \nTuesday\, May 13 at 4pm • Needham vs. Weymouth High School\nFriday\, May 16 at 4pm • Needham vs. Framingham High School\nTuesday\, May 20 at 4pm • Needham at Braintree High School\nThursday\, May 22 at 4pm • Needham vs. Walpole High School
URL:https://needhamlocal.org/event/girls-varsity-lacrosse-vs-weymouth/
LOCATION:Memorial Park\, Needham\, Needham\, MA\, 02494\, United States
CATEGORIES:Girls Lacrosse
END:VEVENT
BEGIN:VEVENT
DTSTART;TZID=America/New_York:20250512T160000
DTEND;TZID=America/New_York:20250512T183000
DTSTAMP:20260422T192050
CREATED:20250327T182817Z
LAST-MODIFIED:20250501T201117Z
UID:10001505-1747065600-1747074600@needhamlocal.org
SUMMARY:Needham Varsity Softball vs. Weymouth
DESCRIPTION:The Needham Channel is planning on covering this game for air on our Community\, Education and HD Channels later in the week. It also streams on the Needham Channel website and on the Needham Channel Roku app. Please keep in mind that our schedule may change based off of the tumultuous spring weather. You can stay tuned to the Needham Channel Sports Twitter feed (#TNC_Sports) for the latest information. \nUpcoming Schedule:\nNeedham Channel coverage is denoted in bold. \nMonday\, May 12 at 4pm • Needham vs. Weymouth High School\nWednesday\, May 14 at 6pm • Needham vs. Framingham High School\nMonday\, May 19 at 4pm • Needham at Braintree High School\nWednesday\, May 21 at 4pm • Needham vs. Walpole High School
URL:https://needhamlocal.org/event/needham-varsity-softball-vs-weymouth/
LOCATION:DeFazio Field\, 380 Dedham Avenue\, Needham\, MA\, 02492\, United States
CATEGORIES:Softball
END:VEVENT
BEGIN:VEVENT
DTSTART;TZID=America/New_York:20250509T163000
DTEND;TZID=America/New_York:20250509T183000
DTSTAMP:20260422T192050
CREATED:20250327T182743Z
LAST-MODIFIED:20250501T201110Z
UID:10001504-1746808200-1746815400@needhamlocal.org
SUMMARY:Needham Varsity Softball vs. Lexington
DESCRIPTION:The Needham Channel is planning on covering this game for air on our Community\, Education and HD Channels later in the week. It also streams on the Needham Channel website and on the Needham Channel Roku app. Please keep in mind that our schedule may change based off of the tumultuous spring weather. You can stay tuned to the Needham Channel Sports Twitter feed (#TNC_Sports) for the latest information. \nUpcoming Schedule:\nNeedham Channel coverage is denoted in bold. \nFriday\, May 9 at 4:30pm • Needham vs. Lexington High School\nMonday\, May 12 at 4pm • Needham vs. Weymouth High School\nWednesday\, May 14 at 6pm • Needham vs. Framingham High School\nMonday\, May 19 at 4pm • Needham at Braintree High School\nWednesday\, May 21 at 4pm • Needham vs. Walpole High School
URL:https://needhamlocal.org/event/needham-varsity-softball-vs-lexington/
LOCATION:DeFazio Field\, 380 Dedham Avenue\, Needham\, MA\, 02492\, United States
CATEGORIES:Softball
END:VEVENT
BEGIN:VEVENT
DTSTART;TZID=America/New_York:20250506T160000
DTEND;TZID=America/New_York:20250506T180000
DTSTAMP:20260422T192050
CREATED:20250327T170339Z
LAST-MODIFIED:20250501T201104Z
UID:10001482-1746547200-1746554400@needhamlocal.org
SUMMARY:Boys Varsity Volleyball vs Braintree
DESCRIPTION:The Needham Channel is planning on covering this game for air on our Community\, Education and HD Channels later in the week. It also streams on the Needham Channel website and on the Needham Channel Roku app. Please keep in mind that our schedule may change based off of the tumultuous spring weather. You can stay tuned to the Needham Channel Sports feed on X (#TNC_Sports) for the latest information. \nUpcoming Schedule:\nNeedham Channel coverage is denoted in bold. \nTuesday\, May 6 at 4pm • Needham vs. Braintree High School\nThursday\, May 8 at 4:30pm • Needham at Newton North High School\nSaturday\, May 10 at 1pm • Needham at Agawam High School\nTuesday\, May 13 at 4pm • Needham vs. Brookline High School\nThursday May 15 at 4pm • Needham at Framingham High School\nFriday\, May 16 at 5pm • Needham vs. Boston College High School\nTuesday\, May 20 at 5:15pm • Needham at Natick High School\nWednesday\, May 21 at 4:30pm • Needham at Wayland High School\nFriday\, May 23 at 5:30pm • Needham vs. Westfield High School
URL:https://needhamlocal.org/event/boys-varsity-volleyball-vs-braintree/
LOCATION:Needham High School\, 609 Webster Street\, Needham\, MA\, 02494\, United States
CATEGORIES:Boys Volleyball,Sports
ATTACH;FMTTYPE=image/jpeg:https://needhamlocal.org/wp-content/uploads/2023/03/Boys-Volleyball-Event-Pic.jpg
END:VEVENT
BEGIN:VEVENT
DTSTART;TZID=America/New_York:20250505T160000
DTEND;TZID=America/New_York:20250505T193000
DTSTAMP:20260422T192050
CREATED:20250327T180118Z
LAST-MODIFIED:20250501T201046Z
UID:10001496-1746460800-1746473400@needhamlocal.org
SUMMARY:Varsity Baseball vs. Natick
DESCRIPTION:The Needham Channel is planning on covering this game for air on our Community\, Education and HD Channels later in the week. It also streams on the Needham Channel website and on the Needham Channel Roku app. Please keep in mind that our schedule may change based off of the tumultuous spring weather. You can stay tuned to the Needham Channel Sports feed on X (#TNC_Sports) for the latest information. \nUpcoming Schedule:\nNeedham Channel coverage is denoted in bold. \nMonday\, May 5 at 4pm • Needham vs. Natick High School\nWednesday\, May 7 at 4pm • Needham vs. Milton High School\nFriday\, May 9 at 4pm • Needham at Boston Latin Academy\nMonday\, May 12 at 4pm • Needham at Weymouth High School\nWednesday\, May 14 at 4pm • Needham at Framingham High School\nSaturday\, May 17 at 12pm • Needham at Springfield Central High School\nMonday\, May 19 at 4pm • Needham vs. Braintree High School\nWednesday\, May 21 at 4:15pm • Needham at Walpole High School
URL:https://needhamlocal.org/event/varsity-baseball-vs-natick/
LOCATION:Memorial Park\, Needham\, Needham\, MA\, 02494\, United States
CATEGORIES:Baseball,Sports
ATTACH;FMTTYPE=image/jpeg:https://needhamlocal.org/wp-content/uploads/2023/03/Baseball-Event-Pic.jpg
END:VEVENT
BEGIN:VEVENT
DTSTART;TZID=America/New_York:20250501T160000
DTEND;TZID=America/New_York:20250501T180000
DTSTAMP:20260422T192050
CREATED:20250327T170307Z
LAST-MODIFIED:20250501T201035Z
UID:10001481-1746115200-1746122400@needhamlocal.org
SUMMARY:Boys Varsity Volleyball vs Wellesley
DESCRIPTION:The Needham Channel is planning on covering this game for air on our Community\, Education and HD Channels later in the week. It also streams on the Needham Channel website and on the Needham Channel Roku app. Please keep in mind that our schedule may change based off of the tumultuous spring weather. You can stay tuned to the Needham Channel Sports feed on X (#TNC_Sports) for the latest information. \nUpcoming Schedule:\nNeedham Channel coverage is denoted in bold. \nThursday\, May 1 at 4pm • Needham vs. Wellesley High School\nTuesday\, May 6 at 4pm • Needham vs. Braintree High School\nThursday\, May 8 at 4:30pm • Needham at Newton North High School\nSaturday\, May 10 at 1pm • Needham at Agawam High School\nTuesday\, May 13 at 4pm • Needham vs. Brookline High School\nThursday May 15 at 4pm • Needham at Framingham High School\nFriday\, May 16 at 5pm • Needham vs. Boston College High School\nTuesday\, May 20 at 5:15pm • Needham at Natick High School\nWednesday\, May 21 at 4:30pm • Needham at Wayland High School\nFriday\, May 23 at 5:30pm • Needham vs. Westfield High School
URL:https://needhamlocal.org/event/boys-varsity-volleyball-vs-wellesley/
LOCATION:Needham High School\, 609 Webster Street\, Needham\, MA\, 02494\, United States
CATEGORIES:Boys Volleyball,Sports
ATTACH;FMTTYPE=image/jpeg:https://needhamlocal.org/wp-content/uploads/2023/03/Boys-Volleyball-Event-Pic.jpg
END:VEVENT
BEGIN:VEVENT
DTSTART;TZID=America/New_York:20250429T160000
DTEND;TZID=America/New_York:20250429T173000
DTSTAMP:20260422T192050
CREATED:20250327T181458Z
LAST-MODIFIED:20250327T181459Z
UID:10001500-1745942400-1745947800@needhamlocal.org
SUMMARY:Girls Varsity Lacrosse vs. Newton North
DESCRIPTION:The Needham Channel is planning on covering this game for air on our Community\, Education and HD Channels later in the week. It also streams on the Needham Channel website and on the Needham Channel Roku app. Please keep in mind that our schedule may change based off of the tumultuous spring weather. You can stay tuned to the Needham Channel Sports feed on X (#TNC_Sports) for the latest information. \nTuesday\, April 29 at 4pm • Needham vs. Newton North High School\nThursday\, May 1 at 4pm • Needham at Wellesley High School\nSaturday\, May 3 at 4pm • Needham vs. Foxborough High School\nTuesday\, May 6 at 4pm • Needham at Natick High School\nThursday\, May 8 at 4:30pm • Needham at Milton High School\nFriday\, May 9 at 6pm • Needham at Leominster\nTuesday\, May 13 at 4pm • Needham vs. Weymouth High School\nFriday\, May 16 at 4pm • Needham vs. Framingham High School\nTuesday\, May 20 at 4pm • Needham at Braintree High School\nThursday\, May 22 at 4pm • Needham vs. Walpole High School
URL:https://needhamlocal.org/event/girls-varsity-lacrosse-vs-newton-north/
LOCATION:Memorial Park\, Needham\, Needham\, MA\, 02494\, United States
CATEGORIES:Girls Lacrosse
END:VEVENT
BEGIN:VEVENT
DTSTART;TZID=America/New_York:20250428T180000
DTEND;TZID=America/New_York:20250428T203000
DTSTAMP:20260422T192050
CREATED:20250327T182656Z
LAST-MODIFIED:20250327T182656Z
UID:10001503-1745863200-1745872200@needhamlocal.org
SUMMARY:Needham Varsity Softball vs. Newton North
DESCRIPTION:The Needham Channel is planning on covering this game for air on our Community\, Education and HD Channels later in the week. It also streams on the Needham Channel website and on the Needham Channel Roku app. Please keep in mind that our schedule may change based off of the tumultuous spring weather. You can stay tuned to the Needham Channel Sports Twitter feed (#TNC_Sports) for the latest information. \nUpcoming Schedule:\nNeedham Channel coverage is denoted in bold. \nMonday\, April 28 at 6pm • Needham vs. Newton North High School/b>\nWednesday\, April 30 at 4pm • Needham at Wellesley High School\nFriday\, May 2 at 4pm • Needham vs. Natick High School\nMonday\, May 5 at 4pm • Needham at Natick High School\nWednesday\, May 7 at 4pm • Needham at Milton High School\nFriday\, May 9 at 4:30pm • Needham vs. Lexington High School\nMonday\, May 12 at 4pm • Needham vs. Weymouth High School\nWednesday\, May 14 at 6pm • Needham vs. Framingham High School\nMonday\, May 19 at 4pm • Needham at Braintree High School\nWednesday\, May 21 at 4pm • Needham vs. Walpole High School
URL:https://needhamlocal.org/event/needham-varsity-softball-vs-newton-north/
LOCATION:DeFazio Field\, 380 Dedham Avenue\, Needham\, MA\, 02492\, United States
CATEGORIES:Softball
END:VEVENT
BEGIN:VEVENT
DTSTART;TZID=America/New_York:20250423T130000
DTEND;TZID=America/New_York:20250423T153000
DTSTAMP:20260422T192050
CREATED:20250327T180043Z
LAST-MODIFIED:20250327T180043Z
UID:10001495-1745413200-1745422200@needhamlocal.org
SUMMARY:Varsity Baseball vs. St. John's Prep
DESCRIPTION:The Needham Channel is planning on covering this game for air on our Community\, Education and HD Channels later in the week. It also streams on the Needham Channel website and on the Needham Channel Roku app. Please keep in mind that our schedule may change based off of the tumultuous spring weather. You can stay tuned to the Needham Channel Sports feed on X (#TNC_Sports) for the latest information. \nUpcoming Schedule:\nNeedham Channel coverage is denoted in bold. \nWednesday\, April 23 at 1pm • Needham vs. St. John’s Preparatory School\nMonday\, April 28 at 4:30pm • Needham at Newton North High School\nWednesday\, April 30 at 4pm • Needham vs. Wellesley High School\nMonday\, May 5 at 4pm • Needham vs. Natick High School\nWednesday\, May 7 at 4pm • Needham vs. Milton High School\nFriday\, May 9 at 4pm • Needham at Boston Latin Academy\nMonday\, May 12 at 4pm • Needham at Weymouth High School\nWednesday\, May 14 at 4pm • Needham at Framingham High School\nSaturday\, May 17 at 12pm • Needham at Springfield Central High School\nMonday\, May 19 at 4pm • Needham vs. Braintree High School\nWednesday\, May 21 at 4:15pm • Needham at Walpole High School
URL:https://needhamlocal.org/event/varsity-baseball-vs-st-johns-prep/
LOCATION:Memorial Park\, Needham\, Needham\, MA\, 02494\, United States
CATEGORIES:Baseball,Sports
ATTACH;FMTTYPE=image/jpeg:https://needhamlocal.org/wp-content/uploads/2023/03/Baseball-Event-Pic.jpg
END:VEVENT
END:VCALENDAR