BEGIN:VCALENDAR
VERSION:2.0
PRODID:-//Needham Local - ECPv6.15.20//NONSGML v1.0//EN
CALSCALE:GREGORIAN
METHOD:PUBLISH
X-ORIGINAL-URL:https://needhamlocal.org
X-WR-CALDESC:Events for Needham Local
REFRESH-INTERVAL;VALUE=DURATION:PT1H
X-Robots-Tag:noindex
X-PUBLISHED-TTL:PT1H
BEGIN:VTIMEZONE
TZID:America/New_York
BEGIN:DAYLIGHT
TZOFFSETFROM:-0500
TZOFFSETTO:-0400
TZNAME:EDT
DTSTART:20240310T070000
END:DAYLIGHT
BEGIN:STANDARD
TZOFFSETFROM:-0400
TZOFFSETTO:-0500
TZNAME:EST
DTSTART:20241103T060000
END:STANDARD
BEGIN:DAYLIGHT
TZOFFSETFROM:-0500
TZOFFSETTO:-0400
TZNAME:EDT
DTSTART:20250309T070000
END:DAYLIGHT
BEGIN:STANDARD
TZOFFSETFROM:-0400
TZOFFSETTO:-0500
TZNAME:EST
DTSTART:20251102T060000
END:STANDARD
BEGIN:DAYLIGHT
TZOFFSETFROM:-0500
TZOFFSETTO:-0400
TZNAME:EDT
DTSTART:20260308T070000
END:DAYLIGHT
BEGIN:STANDARD
TZOFFSETFROM:-0400
TZOFFSETTO:-0500
TZNAME:EST
DTSTART:20261101T060000
END:STANDARD
END:VTIMEZONE
BEGIN:VEVENT
DTSTART;TZID=America/New_York:20250930T190000
DTEND;TZID=America/New_York:20250930T203000
DTSTAMP:20260421T010439
CREATED:20250821T223949Z
LAST-MODIFIED:20250822T201228Z
UID:10001922-1759258800-1759264200@needhamlocal.org
SUMMARY:NHS Varsity Boys Soccer vs. Weymouth
DESCRIPTION:The Rockets wrap up September with a game under the lights. The Rockets face Weymouth on the pitch up at Memorial Park. The Needham Channel will be providing coverage of this game. Check our Sports feed for details leading up to the game. \nUpcoming Schedule (as of August 2025):\nTuesday\, 9/30 at 7pm • vs. Weymouth\nSaturday\, 10/4 at 6pm • at Newton South\nTuesday\, 10/7 at 4pm • at Wellesley\nThursday\, 10/9 at 6:30pm • at Natick\nTuesday\, 10/14 at 4pm • vs. Framingham\nThursday\, 10/16 at 4:30pm • at Milton\nTuesday\, 10/21 at 4pm • at Weymouth\nThursday\, 10/23 at 4pm • at Braintree\nMonday\, 10/27 at 6pm • vs. Walpole \nThe bold text indicates games that the Needham Channel is hoping to cover\, weather-permitting.
URL:https://needhamlocal.org/event/nhs-varsity-boys-soccer-vs-oliver-ames-2/
LOCATION:Memorial Park\, Needham\, Needham\, MA\, 02494\, United States
CATEGORIES:Boys Soccer,Sports
ATTACH;FMTTYPE=image/jpeg:https://needhamlocal.org/wp-content/uploads/2023/08/Rockets-Soccer.jpg
END:VEVENT
END:VCALENDAR