BEGIN:VCALENDAR
VERSION:2.0
PRODID:-//Needham Local - ECPv6.15.20//NONSGML v1.0//EN
CALSCALE:GREGORIAN
METHOD:PUBLISH
X-ORIGINAL-URL:https://needhamlocal.org
X-WR-CALDESC:Events for Needham Local
REFRESH-INTERVAL;VALUE=DURATION:PT1H
X-Robots-Tag:noindex
X-PUBLISHED-TTL:PT1H
BEGIN:VTIMEZONE
TZID:America/New_York
BEGIN:DAYLIGHT
TZOFFSETFROM:-0500
TZOFFSETTO:-0400
TZNAME:EDT
DTSTART:20250309T070000
END:DAYLIGHT
BEGIN:STANDARD
TZOFFSETFROM:-0400
TZOFFSETTO:-0500
TZNAME:EST
DTSTART:20251102T060000
END:STANDARD
BEGIN:DAYLIGHT
TZOFFSETFROM:-0500
TZOFFSETTO:-0400
TZNAME:EDT
DTSTART:20260308T070000
END:DAYLIGHT
BEGIN:STANDARD
TZOFFSETFROM:-0400
TZOFFSETTO:-0500
TZNAME:EST
DTSTART:20261101T060000
END:STANDARD
BEGIN:DAYLIGHT
TZOFFSETFROM:-0500
TZOFFSETTO:-0400
TZNAME:EDT
DTSTART:20270314T070000
END:DAYLIGHT
BEGIN:STANDARD
TZOFFSETFROM:-0400
TZOFFSETTO:-0500
TZNAME:EST
DTSTART:20271107T060000
END:STANDARD
END:VTIMEZONE
BEGIN:VEVENT
DTSTART;TZID=America/New_York:20260223T183000
DTEND;TZID=America/New_York:20260223T194500
DTSTAMP:20260419T184335
CREATED:20260105T210257Z
LAST-MODIFIED:20260105T210257Z
UID:10002077-1771871400-1771875900@needhamlocal.org
SUMMARY:Conversations with Your Middle Schooler: Why You Shouldn't Wait to Talk About Substance Use
DESCRIPTION:The Needham Public Health Division and the Substance Prevention Alliance of Needham (SPAN)\, in partnership with the Needham Youth & Family Services Department\, are hosting Conversations with Your Middle Schooler: Why You Shouldn’t Wait to Talk About Substance Use. This free series\, is designed for parents and caregivers of children in grades 5–8. \nThis program provides parents with practical information about underage drinking and other substance use\, along with guidance and strategies for having age-appropriate\, meaningful conversations with their children. Parents will have the opportunity to connect with one another and feel supported in navigating these conversations. \nSessions are scheduled on Monday evenings\, 6:30 – 7:45pm on January 26\, February 23\, & March 23 at The Center at the Heights\, 300 Hillside Ave\, Needham. \nPlease see the attached program flyer for registration details and additional information.
URL:https://needhamlocal.org/event/conversations-with-your-middle-schooler-why-you-shouldnt-wait-to-talk-about-substance-use/2026-02-23/
LOCATION:Center at the Heights\, 300 Hillside Avenue\, Needham Heights\, MA\, 02492\, United States
CATEGORIES:Needham Public Health,Parenting
ATTACH;FMTTYPE=image/png:https://needhamlocal.org/wp-content/uploads/2026/01/SPAN-Convos-W_Middle-Schooler-Series-2026.png
END:VEVENT
BEGIN:VEVENT
DTSTART;TZID=America/New_York:20260224T190000
DTEND;TZID=America/New_York:20260224T230000
DTSTAMP:20260419T184335
CREATED:20260202T142323Z
LAST-MODIFIED:20260202T142323Z
UID:10002106-1771959600-1771974000@needhamlocal.org
SUMMARY:Needham Planning Board
DESCRIPTION:The Needham Planning Board meets for its regular session at the Public Service Administration Building at 500 Dedham Avenue. Due to simultaneous sessions as the Needham Select Board and School Committee\, this meeting will not be carried live by the Needham Channel\, but will be available to stream via the town’s Zoom Meeting platform. The Needham Channel will subsequently air and stream the meeting through the Municipal Channel\, HD Channel\, at needhamchannel.org\, and through its free Roku App.
URL:https://needhamlocal.org/event/needham-planning-board-23/
LOCATION:Public Services Administration Building\, 500 Dedham Avenue\, Needham\, MA\, 02492\, United States
CATEGORIES:Housing,On Our Minds,Planning Board,The Needham Channel,Town Boards,Town Growth,Transportation
ATTACH;FMTTYPE=image/png:https://needhamlocal.org/wp-content/uploads/2024/07/Needham-Planning-Board-Button.png
END:VEVENT
BEGIN:VEVENT
DTSTART;TZID=America/New_York:20260305T080000
DTEND;TZID=America/New_York:20260331T170000
DTSTAMP:20260419T184335
CREATED:20260305T173625Z
LAST-MODIFIED:20260316T125805Z
UID:10002140-1772697600-1774976400@needhamlocal.org
SUMMARY:Needham Parent Survey 2026
DESCRIPTION:📣 Needham Parents: Your Voice Matters!  \n2026 Parent Survey on Youth Substance Use\nParents of students in Grades 6–12 — we invite you to participate in a brief\, anonymous survey. \n  \nThe Substance Prevention Alliance of Needham (SPAN)\, in partnership with the Needham Public Health Division\, is gathering parent feedback on underage drinking\, youth substance use\, and community perceptions. \n  \nBy taking a few minutes to complete the survey\, you will help guide local prevention programs and support healthy choices for Needham’s young people. \n  \n✅ Take the survey here: https://bit.ly/4qYd9co \n  \nSurvey results will be shared with the community later this year. \n  \nQuestions? Contact Karen Shannon\, Substance Use Prevention Coordinator:\nkshannon@needhamma.gov \n  \nPlease consider sharing this survey with other Needham parents of students in Grades 6–12. \n 
URL:https://needhamlocal.org/event/needham-parent-survey-2026/
LOCATION:MA
CATEGORIES:Needham Public Health,Parenting
ATTACH;FMTTYPE=image/png:https://needhamlocal.org/wp-content/uploads/2026/03/Needham-Parent-Survey-2026-flyer.png
ORGANIZER;CN="Substance Prevention Alliance of Needham (SPAN)":MAILTO:kshannon@needhamma.gov
END:VEVENT
BEGIN:VEVENT
DTSTART;TZID=America/New_York:20260318T183000
DTEND;TZID=America/New_York:20260318T200000
DTSTAMP:20260419T184335
CREATED:20260226T210100Z
LAST-MODIFIED:20260226T210100Z
UID:10002132-1773858600-1773864000@needhamlocal.org
SUMMARY:The Addiction Inoculation: Raising Healthy Kids in a Culture of Dependence
DESCRIPTION:For: Parents\, Caregivers & Educators of Kids in Grades 6-12 \nPresenter: Jessica Lahey: Educator & Best-Selling Author of The Gift of Failure & The Addiction Inoculation\, Recovery & Prevention Coach. She recently won the Research Society on Alcohol’s Media Award\, “designed to recognize outstanding journalistic efforts of writers who cover empirical research on alcohol.” \nJesscia will offer: Evidence-based\, effective learning and prevention resources that works. And scripts adults can use to open up discussions about substance use with the kids in their lives.
URL:https://needhamlocal.org/event/the-addiction-inoculation-raising-healthy-kids-in-a-culture-of-dependence/
LOCATION:Powers Hall at Needham Town Hall\, 1471 Highland Ave.\, Needham\, MA\, 02492\, United States
CATEGORIES:Health & Wellness,Needham Community Council,Needham Public Health,Needham Youth and Family Services,Parenting
ATTACH;FMTTYPE=image/jpeg:https://needhamlocal.org/wp-content/uploads/2026/02/2026Mar18MindfulFlyerWBookGroup.jpg
END:VEVENT
BEGIN:VEVENT
DTSTART;TZID=America/New_York:20260323T183000
DTEND;TZID=America/New_York:20260323T194500
DTSTAMP:20260419T184335
CREATED:20260105T210257Z
LAST-MODIFIED:20260105T210257Z
UID:10002078-1774290600-1774295100@needhamlocal.org
SUMMARY:Conversations with Your Middle Schooler: Why You Shouldn't Wait to Talk About Substance Use
DESCRIPTION:The Needham Public Health Division and the Substance Prevention Alliance of Needham (SPAN)\, in partnership with the Needham Youth & Family Services Department\, are hosting Conversations with Your Middle Schooler: Why You Shouldn’t Wait to Talk About Substance Use. This free series\, is designed for parents and caregivers of children in grades 5–8. \nThis program provides parents with practical information about underage drinking and other substance use\, along with guidance and strategies for having age-appropriate\, meaningful conversations with their children. Parents will have the opportunity to connect with one another and feel supported in navigating these conversations. \nSessions are scheduled on Monday evenings\, 6:30 – 7:45pm on January 26\, February 23\, & March 23 at The Center at the Heights\, 300 Hillside Ave\, Needham. \nPlease see the attached program flyer for registration details and additional information.
URL:https://needhamlocal.org/event/conversations-with-your-middle-schooler-why-you-shouldnt-wait-to-talk-about-substance-use/2026-03-23/
LOCATION:Center at the Heights\, 300 Hillside Avenue\, Needham Heights\, MA\, 02492\, United States
CATEGORIES:Needham Public Health,Parenting
ATTACH;FMTTYPE=image/png:https://needhamlocal.org/wp-content/uploads/2026/01/SPAN-Convos-W_Middle-Schooler-Series-2026.png
END:VEVENT
BEGIN:VEVENT
DTSTART;TZID=America/New_York:20260328T190000
DTEND;TZID=America/New_York:20260328T230000
DTSTAMP:20260419T184335
CREATED:20260213T223840Z
LAST-MODIFIED:20260213T223840Z
UID:10002121-1774724400-1774738800@needhamlocal.org
SUMMARY:Party for the Pantry
DESCRIPTION:The Party of the Year for a Cause That Matters. \nGet ready to dance\, drink\, and make a difference! Join us for Party for the Pantry 2026\, a high-energy\, casual night out dedicated to supporting our neighbors. With the Needham Community Council food pantry serving record numbers of residents\, your presence has never been more vital. \nThe Details: \nWhen: Saturday\, March 28th\, 2026 | 7:00 PM \nThe Vibe: Music\, dancing\, and a casual atmosphere. \nThe Goods: Open bar and incredible catering by Forklift. \nTickets: \nEarly Bird: $100 (Available now!) \nStandard: $125 (Price increases Wednesday\, March 11th at noon) \nDon’t wait—grab your tickets early and help us stock the shelves!
URL:https://needhamlocal.org/event/party-for-the-pantry/
LOCATION:Needham Town Hall – Powers Hall\, 1471 Highland Avenue\, Needham\, MA\, 02492\, United States
CATEGORIES:Giving Back,Needham Community Council,Town Celebrations & Events
ATTACH;FMTTYPE=image/png:https://needhamlocal.org/wp-content/uploads/2026/02/PartyPantry2026.png
END:VEVENT
BEGIN:VEVENT
DTSTART;TZID=America/New_York:20260331T180000
DTEND;TZID=America/New_York:20260331T193000
DTSTAMP:20260419T184335
CREATED:20260227T181343Z
LAST-MODIFIED:20260227T181343Z
UID:10002133-1774980000-1774985400@needhamlocal.org
SUMMARY:Talking to kids ABOUT HEALTHY RELATIONSHIPS
DESCRIPTION:For parents\, educators\, and caregivers: It’s never too early—or too late—to talk to the young people in your life about relationships. This workshop will share strategies to help your child build skills to engage in healthy friendships and articulate and respect boundaries. Parents and caregivers will learn how to foster dialogue and engage young people in thinking critically about healthy and unhealthy relationships. This presentation will provide tools to initiate and continue these conversations and will connect participants with local resources that offer support and prevention services in the Needham community
URL:https://needhamlocal.org/event/talking-to-kids-about-healthy-relationships/2026-03-31/
LOCATION:Rosemary Recreation Complex\, 178 Rosemary Street\, Needham\, 02494\, United States
CATEGORIES:Health & Wellness,Needham Public Health,Parenting
ATTACH;FMTTYPE=image/png:https://needhamlocal.org/wp-content/uploads/2026/02/RegistrationImagine.png
END:VEVENT
BEGIN:VEVENT
DTSTART;TZID=America/New_York:20260402T084500
DTEND;TZID=America/New_York:20260402T100000
DTSTAMP:20260419T184335
CREATED:20260227T181343Z
LAST-MODIFIED:20260227T181343Z
UID:10002134-1775119500-1775124000@needhamlocal.org
SUMMARY:Talking to kids ABOUT HEALTHY RELATIONSHIPS
DESCRIPTION:For parents\, educators\, and caregivers: It’s never too early—or too late—to talk to the young people in your life about relationships. This workshop will share strategies to help your child build skills to engage in healthy friendships and articulate and respect boundaries. Parents and caregivers will learn how to foster dialogue and engage young people in thinking critically about healthy and unhealthy relationships. This presentation will provide tools to initiate and continue these conversations and will connect participants with local resources that offer support and prevention services in the Needham community
URL:https://needhamlocal.org/event/talking-to-kids-about-healthy-relationships/2026-04-02/
LOCATION:Rosemary Recreation Complex\, 178 Rosemary Street\, Needham\, 02494\, United States
CATEGORIES:Health & Wellness,Needham Public Health,Parenting
ATTACH;FMTTYPE=image/png:https://needhamlocal.org/wp-content/uploads/2026/02/RegistrationImagine.png
END:VEVENT
BEGIN:VEVENT
DTSTART;TZID=America/New_York:20260421T093000
DTEND;TZID=America/New_York:20260421T110000
DTSTAMP:20260419T184335
CREATED:20260330T163647Z
LAST-MODIFIED:20260330T163647Z
UID:10002155-1776763800-1776769200@needhamlocal.org
SUMMARY:Needham Garden Club hosts 'Quality Not Quantity - Petite Arrangements’'
DESCRIPTION:The Needham Garden Club invites you to learn how to design dramatic and stunning petite flower arrangements at their April meeting in the Community Room at the Needham Public Library. Trần Vũ Thu-Hằng will will apply the principles and elements of design to create 5 to 12 inch high arrangements that are perfect for tables and windowsills. ​ \nTrần Vũ Thu-Hằng designs flowers at the Museum of Fine Arts. She has published in The New York Times\, The Boston Globe\, Tulsa World and Pangyrus. Her work has been nominated for the prestigious literary Pushcart Award. Her memoir-in-progress explores her past as a child war refugee with seven younger siblings.
URL:https://needhamlocal.org/event/needham-garden-club-hosts-quality-not-quantity-petite-arrangements/
LOCATION:Needham Public Library Community Room\, 1139 Highland Avenue\, Needham\, MA\, 02494\, United States
CATEGORIES:Town Celebrations & Events
ATTACH;FMTTYPE=image/png:https://needhamlocal.org/wp-content/uploads/2026/03/2026-April-meeting-image-1.png
ORGANIZER;CN="Needham Garden Club":MAILTO:sbcondon@aol.com
END:VEVENT
BEGIN:VEVENT
DTSTART;TZID=America/New_York:20260503T150000
DTEND;TZID=America/New_York:20260503T170000
DTSTAMP:20260419T184335
CREATED:20251127T194130Z
LAST-MODIFIED:20251201T163828Z
UID:10002059-1777820400-1777827600@needhamlocal.org
SUMMARY:50th Anniversary Concert | Needham Concert Society
DESCRIPTION:BOLD AND TIMELESS | The Needham Concert Society celebrates its fiftieth anniversary with a commissioned work by Pulitzer-nominated composer David Post and two string masterpieces\, a classically elegant string quintet by Mozart and Dvořák’s romantic and exuberant string sextet. \nThese programs are supported in part by a grant from the Needham Council for Arts and Culture\, ​a local agency which is supported by the Town of Needham and the Mass Cultural Council\, a state agency.
URL:https://needhamlocal.org/event/50th-anniversary-concert-needham-concert-society/
LOCATION:Carter Memorial UMC\, 800 Highland Avenue\, Needham\, 02494
CATEGORIES:Arts & Entertainment,Community Event,Town Celebrations & Events
ATTACH;FMTTYPE=image/jpeg:https://needhamlocal.org/wp-content/uploads/2025/11/50th-anniv-May-2026.jpg
END:VEVENT
BEGIN:VEVENT
DTSTART;TZID=America/New_York:20260503T160000
DTEND;TZID=America/New_York:20260503T180000
DTSTAMP:20260419T184335
CREATED:20260417T152246Z
LAST-MODIFIED:20260417T152246Z
UID:10002161-1777824000-1777831200@needhamlocal.org
SUMMARY:Notes of Hope: A Benefit for Immigrant Justice
DESCRIPTION:Enjoy a fun afternoon of music trivia\, light bites\, and refreshments while raising funds for our immigrant neighbors through Metrowest Worker Center – Casa. \nHosted by the Needham Area Immigration Justice Task Force with co-hosts Congregational Church of Needham\, UCC; First Parish\, UU; and Casa Allies\, this event features Music Trivia Through the Ages with a professional DJ. Tables will compete for the grand prize! \nBuy single tickets ($50) or a table for eight at a discount. At a time when so much can feel overwhelming\, it’s easy to wonder what you can do to make a difference–here’s one meaningful way to make an impact. \nThe Metrowest Worker Center – Casa is an immigrant worker-led organization which is responding daily to the critical needs of immigrants and their families in these troubled times. All proceeds from this event will go directly to Casa to aid immigrants. \nAll are welcome! \nLocation: Congregational Church of Needham\, UCC\, 1154 Great Plain Ave. (Linden St. entrance). The venue is accessible. \nInformation\, purchase tickets and/or donate: https://givebutter.com/notes-of-hope-qnx4ul \nQuestions: email info@immigrationneedham.org \nEvent Flyer: Click here
URL:https://needhamlocal.org/event/notes-of-hope-a-benefit-for-immigrant-justice/
LOCATION:Congregational Church of Needham\, 1154 Great Plain Avenue\, Needham\, 02492
CATEGORIES:Diversity, Equity & Inclusion,Giving Back
ATTACH;FMTTYPE=image/png:https://needhamlocal.org/wp-content/uploads/2026/04/May-3-GB-cover-254kb.png
ORGANIZER;CN="Needham Area Immigration Justice Task Force":MAILTO:info@immigrationneedham.org
END:VEVENT
END:VCALENDAR