BEGIN:VCALENDAR
VERSION:2.0
PRODID:-//Needham Local - ECPv6.15.20//NONSGML v1.0//EN
CALSCALE:GREGORIAN
METHOD:PUBLISH
X-ORIGINAL-URL:https://needhamlocal.org
X-WR-CALDESC:Events for Needham Local
REFRESH-INTERVAL;VALUE=DURATION:PT1H
X-Robots-Tag:noindex
X-PUBLISHED-TTL:PT1H
BEGIN:VTIMEZONE
TZID:America/New_York
BEGIN:DAYLIGHT
TZOFFSETFROM:-0500
TZOFFSETTO:-0400
TZNAME:EDT
DTSTART:20240310T070000
END:DAYLIGHT
BEGIN:STANDARD
TZOFFSETFROM:-0400
TZOFFSETTO:-0500
TZNAME:EST
DTSTART:20241103T060000
END:STANDARD
BEGIN:DAYLIGHT
TZOFFSETFROM:-0500
TZOFFSETTO:-0400
TZNAME:EDT
DTSTART:20250309T070000
END:DAYLIGHT
BEGIN:STANDARD
TZOFFSETFROM:-0400
TZOFFSETTO:-0500
TZNAME:EST
DTSTART:20251102T060000
END:STANDARD
BEGIN:DAYLIGHT
TZOFFSETFROM:-0500
TZOFFSETTO:-0400
TZNAME:EDT
DTSTART:20260308T070000
END:DAYLIGHT
BEGIN:STANDARD
TZOFFSETFROM:-0400
TZOFFSETTO:-0500
TZNAME:EST
DTSTART:20261101T060000
END:STANDARD
END:VTIMEZONE
BEGIN:VEVENT
DTSTART;TZID=America/New_York:20251008T183000
DTEND;TZID=America/New_York:20251008T200000
DTSTAMP:20260420T174106
CREATED:20250929T135946Z
LAST-MODIFIED:20250929T135946Z
UID:10001958-1759948200-1759953600@needhamlocal.org
SUMMARY:Strategies and Solutions for Social Anxiety in Tweens and Teens with ADHD
DESCRIPTION:For Parents\, Caregivers & Educators of Kids in Grades 6-12. Do your tweens and teens with ADHD struggle with making and keeping friends\, speaking in front of others\, or joining group activities? This presentation offers useful strategies to help students initiate and foster friendships\, boosting their self-esteem and improving their conversational skills. Learn how to engage more effectively with peers and adults at school and in life.\nDr. Sharon Saline\, an award-winning author\, international speaker\, and consultant\, will provide practical tools for teaching kids how to navigate social anxiety. She will show you how to assist your children and students in participating more fully in academic and social situations with greater confidence and less self-criticism.\nJoin us to gain insights on how to intervene effectively and support your children and students in overcoming the challenges of the neurodivergent brain. This workshop will leave you equipped with the knowledge to help kids feel understood and less lonely.
URL:https://needhamlocal.org/event/strategies-and-solutions-for-social-anxiety-in-tweens-and-teens-with-adhd/
LOCATION:Broadmeadow School Performance Center\, 120 Broad Meadow Rd\, Needham\, 02492
CATEGORIES:Community Event,Health & Wellness,Municipal Organizations,Needham Community Council,Needham Youth and Family Services,On Our Minds
ATTACH;FMTTYPE=image/png:https://needhamlocal.org/wp-content/uploads/2025/09/2025Oct8MindfulFlyer-1.png
END:VEVENT
BEGIN:VEVENT
DTSTART;TZID=America/New_York:20251024T190000
DTEND;TZID=America/New_York:20251024T210000
DTSTAMP:20260420T174106
CREATED:20250929T160432Z
LAST-MODIFIED:20250929T160432Z
UID:10001986-1761332400-1761339600@needhamlocal.org
SUMMARY:SAMD Performance: Chicago
DESCRIPTION:Students Acting to Make a Difference is performing the musical “Chicago (Teen Edition)”. \nOctober 24 at 7pm\nOctober 25 at 7pm\nOctober 26 at 2pm\nNewman Auditorium \nTickets Available Oct. 1st\nThe link to the site is here.\nContact Naomi Goldman for any questions regarding Tickets: \nnaomi_goldman@needham.k12.ma.us
URL:https://needhamlocal.org/event/samd-performance-chicago/2025-10-24/
LOCATION:Newman Elementary School Auditorium\, 1155 Central Ave.\, Needham\, 02492
CATEGORIES:Arts & Entertainment,Community Event,Health & Wellness,Municipal Organizations,Needham Public Schools,Parenting
END:VEVENT
BEGIN:VEVENT
DTSTART;TZID=America/New_York:20251025T190000
DTEND;TZID=America/New_York:20251025T213000
DTSTAMP:20260420T174106
CREATED:20250929T160432Z
LAST-MODIFIED:20250929T160432Z
UID:10001987-1761418800-1761427800@needhamlocal.org
SUMMARY:SAMD Performance: Chicago
DESCRIPTION:Students Acting to Make a Difference is performing the musical “Chicago (Teen Edition)”. \nOctober 24 at 7pm\nOctober 25 at 7pm\nOctober 26 at 2pm\nNewman Auditorium \nTickets Available Oct. 1st\nThe link to the site is here.\nContact Naomi Goldman for any questions regarding Tickets: \nnaomi_goldman@needham.k12.ma.us
URL:https://needhamlocal.org/event/samd-performance-chicago/2025-10-25/
LOCATION:Newman Elementary School Auditorium\, 1155 Central Ave.\, Needham\, 02492
CATEGORIES:Arts & Entertainment,Community Event,Health & Wellness,Municipal Organizations,Needham Public Schools,Parenting
END:VEVENT
BEGIN:VEVENT
DTSTART;TZID=America/New_York:20251026T140000
DTEND;TZID=America/New_York:20251026T163000
DTSTAMP:20260420T174106
CREATED:20250929T160432Z
LAST-MODIFIED:20250929T160432Z
UID:10001988-1761487200-1761496200@needhamlocal.org
SUMMARY:SAMD Performance: Chicago
DESCRIPTION:Students Acting to Make a Difference is performing the musical “Chicago (Teen Edition)”. \nOctober 24 at 7pm\nOctober 25 at 7pm\nOctober 26 at 2pm\nNewman Auditorium \nTickets Available Oct. 1st\nThe link to the site is here.\nContact Naomi Goldman for any questions regarding Tickets: \nnaomi_goldman@needham.k12.ma.us
URL:https://needhamlocal.org/event/samd-performance-chicago/2025-10-26/
LOCATION:Newman Elementary School Auditorium\, 1155 Central Ave.\, Needham\, 02492
CATEGORIES:Arts & Entertainment,Community Event,Health & Wellness,Municipal Organizations,Needham Public Schools,Parenting
END:VEVENT
BEGIN:VEVENT
DTSTART;TZID=America/New_York:20251027T180000
DTEND;TZID=America/New_York:20251027T203000
DTSTAMP:20260420T174106
CREATED:20251001T160118Z
LAST-MODIFIED:20251001T160118Z
UID:10001991-1761588000-1761597000@needhamlocal.org
SUMMARY:Through My Eyes: A Survivor’s Journey Through Domestic Abuse
DESCRIPTION:Over the past 2 years\, The Needham Domestic Violence Action Committee (DVAC) has been busy creating and filming a 5-part series on Domestic Violence- Through My Eyes: A Survivor’s Journey Through Domestic Abuse. DVAC was fortunate to have a survivor that was willing to engage in meaningful conversation with different experts in the field about her experiences and hardships on her road to becoming a survivor. Please consider joining us for a Hearth Pizzeria dinner\, followed by the premiere of our 1st episode: Domestic Violence 101. This is a free event\, but reservations are required at https://bit.ly/DVAC_Oct27 and seats are limited.
URL:https://needhamlocal.org/event/through-my-eyes-a-survivors-journey-through-domestic-abuse/
LOCATION:Powers Hall at Needham Town Hall\, 1471 Highland Ave.\, Needham\, MA\, 02492\, United States
CATEGORIES:Health & Wellness,Needham Public Health
ATTACH;FMTTYPE=image/jpeg:https://needhamlocal.org/wp-content/uploads/2025/09/DVAC-Event-Poster-Final-.jpg
END:VEVENT
END:VCALENDAR