BEGIN:VCALENDAR
VERSION:2.0
PRODID:-//Needham Local - ECPv6.15.20//NONSGML v1.0//EN
CALSCALE:GREGORIAN
METHOD:PUBLISH
X-ORIGINAL-URL:https://needhamlocal.org
X-WR-CALDESC:Events for Needham Local
REFRESH-INTERVAL;VALUE=DURATION:PT1H
X-Robots-Tag:noindex
X-PUBLISHED-TTL:PT1H
BEGIN:VTIMEZONE
TZID:America/New_York
BEGIN:DAYLIGHT
TZOFFSETFROM:-0500
TZOFFSETTO:-0400
TZNAME:EDT
DTSTART:20250309T070000
END:DAYLIGHT
BEGIN:STANDARD
TZOFFSETFROM:-0400
TZOFFSETTO:-0500
TZNAME:EST
DTSTART:20251102T060000
END:STANDARD
BEGIN:DAYLIGHT
TZOFFSETFROM:-0500
TZOFFSETTO:-0400
TZNAME:EDT
DTSTART:20260308T070000
END:DAYLIGHT
BEGIN:STANDARD
TZOFFSETFROM:-0400
TZOFFSETTO:-0500
TZNAME:EST
DTSTART:20261101T060000
END:STANDARD
BEGIN:DAYLIGHT
TZOFFSETFROM:-0500
TZOFFSETTO:-0400
TZNAME:EDT
DTSTART:20270314T070000
END:DAYLIGHT
BEGIN:STANDARD
TZOFFSETFROM:-0400
TZOFFSETTO:-0500
TZNAME:EST
DTSTART:20271107T060000
END:STANDARD
END:VTIMEZONE
BEGIN:VEVENT
DTSTART;TZID=America/New_York:20260204T190000
DTEND;TZID=America/New_York:20260204T203000
DTSTAMP:20260419T222222
CREATED:20251217T213647Z
LAST-MODIFIED:20251217T213648Z
UID:10002068-1770231600-1770237000@needhamlocal.org
SUMMARY:Unlaunch’d Voices: an Evening with Walt Whitman
DESCRIPTION:Unlaunch’d Voices: an Evening with Walt Whitman. Conceived and performed by Stephen Collins\, Written by Michael Z. Keamy. \nUnlaunch’d Voices opens with the elderly Whitman on the evening of his seventieth birthday. The audience is a visitor in his room as he prepares for his birthday celebration. Whitman begins to reminisce and to question his success as a man and a poet. He tells us his work has proved to be “less than a failure….” He remembers a mystical experience he had in his thirty-seventh year that inspired him to write poetry. \nDuring the telling\, Whitman transforms into his young vibrant self and we begin to trace back along with him the experiences that led to the creation of Leaves Of Grass\, his lifetime work. The first part of the performance explores Whitman’s preoccupation with the self and his resolve to write with “free and brave thought…” We revel with him as he celebrates his body and himself and are confidants as he shares his struggle with his sexual self. In the second part of the performance\, Whitman’s life is changed forever by the occurrence of the Civil War. It is here that he finds “… the most important work of my life…” nursing the wounded soldiers in the hospitals. Through poetry and readings of actual letters\, we experience Whitman’s movement from selfishness and selflessness and his growth into a mature artist who is at peace about “himself\, God and death.”
URL:https://needhamlocal.org/event/unlaunchd-voices-an-evening-with-walt-whitman/
LOCATION:Memorial Park Field House\, 92 Rosemary Street\, Needham\, MA\, 02494\, United States
CATEGORIES:Arts & Entertainment,Beyond Needham,Community Event,Needham History Center & Museum,On Our Minds
ORGANIZER;CN="Needham History Center & Museum":MAILTO:g.greis@rcn.com
END:VEVENT
BEGIN:VEVENT
DTSTART;TZID=America/New_York:20260204T190000
DTEND;TZID=America/New_York:20260204T210000
DTSTAMP:20260419T222222
CREATED:20260202T144603Z
LAST-MODIFIED:20260202T144603Z
UID:10002108-1770231600-1770238800@needhamlocal.org
SUMMARY:Envision Needham Center Information Session
DESCRIPTION:ENVISION NEEDHAM CENTER WORKING GROUP \nPUBLIC INFORMATION SESSION  \nTOWN OF NEEDHAM\, MASSACHUSETTS \n\nWednesday\, February 4\, 2026 • 7:00 PM \n Power’s Hall • 1471 Highland Ave\, Needham\, MA 02492 \nOr \nhttps://needham-k12-ma-us.zoom.us/j/83639905114 \nWebinar ID: 836 3990 5114 \n\n\nCall the Meeting to Order\nPresentation on Project and 3 Alternative Concept Options\nQuestion and Answer Period\nAdjourn
URL:https://needhamlocal.org/event/envision-needham-center-information-session/
LOCATION:Needham Town Hall – Powers Hall\, 1471 Highland Avenue\, Needham\, MA\, 02492\, United States
CATEGORIES:Business & Economy,Community Event,Municipal Organizations,Town Growth,Transportation
END:VEVENT
END:VCALENDAR