BEGIN:VCALENDAR
VERSION:2.0
PRODID:-//Needham Local - ECPv6.15.20//NONSGML v1.0//EN
CALSCALE:GREGORIAN
METHOD:PUBLISH
X-WR-CALNAME:Needham Local
X-ORIGINAL-URL:https://needhamlocal.org
X-WR-CALDESC:Events for Needham Local
REFRESH-INTERVAL;VALUE=DURATION:PT1H
X-Robots-Tag:noindex
X-PUBLISHED-TTL:PT1H
BEGIN:VTIMEZONE
TZID:America/New_York
BEGIN:DAYLIGHT
TZOFFSETFROM:-0500
TZOFFSETTO:-0400
TZNAME:EDT
DTSTART:20250309T070000
END:DAYLIGHT
BEGIN:STANDARD
TZOFFSETFROM:-0400
TZOFFSETTO:-0500
TZNAME:EST
DTSTART:20251102T060000
END:STANDARD
BEGIN:DAYLIGHT
TZOFFSETFROM:-0500
TZOFFSETTO:-0400
TZNAME:EDT
DTSTART:20260308T070000
END:DAYLIGHT
BEGIN:STANDARD
TZOFFSETFROM:-0400
TZOFFSETTO:-0500
TZNAME:EST
DTSTART:20261101T060000
END:STANDARD
BEGIN:DAYLIGHT
TZOFFSETFROM:-0500
TZOFFSETTO:-0400
TZNAME:EDT
DTSTART:20270314T070000
END:DAYLIGHT
BEGIN:STANDARD
TZOFFSETFROM:-0400
TZOFFSETTO:-0500
TZNAME:EST
DTSTART:20271107T060000
END:STANDARD
END:VTIMEZONE
BEGIN:VEVENT
DTSTART;TZID=America/New_York:20260112T190000
DTEND;TZID=America/New_York:20260112T203000
DTSTAMP:20260420T205147
CREATED:20251217T213020Z
LAST-MODIFIED:20251217T214017Z
UID:10002067-1768244400-1768249800@needhamlocal.org
SUMMARY:Crime of the Century: How the Brink's Robbers Stole Millions and the Hearts of Boston
DESCRIPTION:Stephanie Schorow is back\, with a story that is “stranger—and far more compelling—than Hollywood led us to believe” (author David Kruh). On January 17\, 1950\, seven robbers in Halloween masks walked into a counting room of the Brink’s armored car garage on Prince Street in Boston and walked out with $2.5 million in cash\, checks\, and securities. It was the\nlargest robbery in U.S. history to date. Yet not a shot was fired\, not a drop of blood shed. The robbers simply said\, “This is a stick-up\,” before gagging and tying up the guards. Within minutes they escaped into the night with bags stuffed with money\, leaving almost no clues behind. \nThis is Stephanie’s third program for the Needham History Center. She has previously spoken to us about the Cocoanut Grove Fire\, and the Boston Harbor Islands Adventure. After stints as a journalist at the Boston Herald\, the Associated Press and newspapers large and small\, Stephanie Schorow turned to nonfiction narratives. She has written or co-written six other books on Boston’s history: Boston On Fire: A History of Fire and Firefighting in Boston; The Cocoanut Grove Fire; East of Boston: Notes from the Harbor Islands; The Boston Mob Guide: Hitmen\, Hoodlums and Hangouts (with Beverly Ford); and Drinking Boston: A History of the City and its Spirits. \nThis talk is free and open to everyone. Refreshments will be served.
URL:https://needhamlocal.org/event/crime-of-the-century-how-the-brinks-robbers-stole-millions-and-the-hearts-of-boston/
LOCATION:Needham History Center & Museum\, 1147 Central Ave.\, Needham\, MA\, 02492\, United States
CATEGORIES:Beyond Needham,Community Event,Needham History Center & Museum
ORGANIZER;CN="Needham History Center & Museum":MAILTO:g.greis@rcn.com
END:VEVENT
BEGIN:VEVENT
DTSTART;TZID=America/New_York:20260112T190000
DTEND;TZID=America/New_York:20260112T210000
DTSTAMP:20260420T205147
CREATED:20260109T215721Z
LAST-MODIFIED:20260109T215721Z
UID:10002094-1768244400-1768251600@needhamlocal.org
SUMMARY:Stephen Palmer COMMUNITY MEETING
DESCRIPTION:Stephen Palmer Development Review Committee \nCOMMUNITY MEETING\nJanuary 12\, 2026 • 7:00 p.m.  \nTown Hall • Powers Hall\n1471 Highland Avenue\, Needham\, MA   \nYou can also watch this meeting stream live on the Needham Channel\, or participate in the meeting via ZOOM
URL:https://needhamlocal.org/event/stephen-palmer-community-meeting/
LOCATION:Needham Town Hall – Powers Hall\, 1471 Highland Avenue\, Needham\, MA\, 02492\, United States
CATEGORIES:Business & Economy,Housing,Municipal Organizations,Town Boards,Town Growth
END:VEVENT
END:VCALENDAR