BEGIN:VCALENDAR
VERSION:2.0
PRODID:-//Needham Local - ECPv6.15.20//NONSGML v1.0//EN
CALSCALE:GREGORIAN
METHOD:PUBLISH
X-WR-CALNAME:Needham Local
X-ORIGINAL-URL:https://needhamlocal.org
X-WR-CALDESC:Events for Needham Local
REFRESH-INTERVAL;VALUE=DURATION:PT1H
X-Robots-Tag:noindex
X-PUBLISHED-TTL:PT1H
BEGIN:VTIMEZONE
TZID:America/New_York
BEGIN:DAYLIGHT
TZOFFSETFROM:-0500
TZOFFSETTO:-0400
TZNAME:EDT
DTSTART:20240310T070000
END:DAYLIGHT
BEGIN:STANDARD
TZOFFSETFROM:-0400
TZOFFSETTO:-0500
TZNAME:EST
DTSTART:20241103T060000
END:STANDARD
BEGIN:DAYLIGHT
TZOFFSETFROM:-0500
TZOFFSETTO:-0400
TZNAME:EDT
DTSTART:20250309T070000
END:DAYLIGHT
BEGIN:STANDARD
TZOFFSETFROM:-0400
TZOFFSETTO:-0500
TZNAME:EST
DTSTART:20251102T060000
END:STANDARD
BEGIN:DAYLIGHT
TZOFFSETFROM:-0500
TZOFFSETTO:-0400
TZNAME:EDT
DTSTART:20260308T070000
END:DAYLIGHT
BEGIN:STANDARD
TZOFFSETFROM:-0400
TZOFFSETTO:-0500
TZNAME:EST
DTSTART:20261101T060000
END:STANDARD
END:VTIMEZONE
BEGIN:VEVENT
DTSTART;TZID=America/New_York:20250604T190000
DTEND;TZID=America/New_York:20250604T210000
DTSTAMP:20260419T235725
CREATED:20250522T202300Z
LAST-MODIFIED:20250522T202433Z
UID:10001880-1749063600-1749070800@needhamlocal.org
SUMMARY:Tree Preservation Listening Session
DESCRIPTION:The Town recently launched a Tree Preservation Planning Committee and wants to hear from you! What questions\, ideas\, or concerns do you have about trees in Needham? What do you want the Committee to know or keep in mind as they begin their work? \nJoin them at a public listening session to share your thoughts at a Public Listening Session on \nWednesday\, June 4th at 7 pm in Powers Hall in Needham Town Hall and via Zoom. \nIf you are not able to attend\, please share your feedback by email to otm@needhamma.gov.
URL:https://needhamlocal.org/event/tree-preservation-listening-session/
LOCATION:Needham Town Hall – Powers Hall\, 1471 Highland Avenue\, Needham\, MA\, 02492\, United States
CATEGORIES:Climate and Sustainability,Municipal Organizations,On Our Minds,Town Boards,Town Growth
END:VEVENT
BEGIN:VEVENT
DTSTART;TZID=America/New_York:20250614T100000
DTEND;TZID=America/New_York:20250614T150000
DTSTAMP:20260419T235725
CREATED:20250422T154808Z
LAST-MODIFIED:20250522T170148Z
UID:10001518-1749895200-1749913200@needhamlocal.org
SUMMARY:Needham Garden Tour
DESCRIPTION:The Needham Women’s Club will host the 2025 Needham Garden Tour on Saturday\, June 14\, from 10 AM to 3 PM. The tour will feature a diverse array of local gardens\, showcasing everything from lush landscapes to creative backyard retreats. Visitors will have the opportunity to stroll through beautiful settings\, gain inspiration for their own gardening endeavors\, and connect with fellow garden enthusiasts. When checking in for the tour at the Needham History Center\, there will be a Maker’s Market featuring local artisans offering a wonderful selection of handmade goods. There will also be a raffle for containers and floral arrangements on display at the History Center and gardeners’ homes. Proceeds will support the various Needham charitable organizations.
URL:https://needhamlocal.org/event/needham-garden-tour/
LOCATION:Needham History Center & Museum\, 1147 Central Ave.\, Needham\, MA\, 02492\, United States
CATEGORIES:Climate and Sustainability,Community Event,Needham History Center & Museum,Needham Women's Club,Town Celebrations & Events
ATTACH;FMTTYPE=image/jpeg:https://needhamlocal.org/wp-content/uploads/2025/04/Needham-Garden-Tour.jpg
END:VEVENT
END:VCALENDAR