BEGIN:VCALENDAR
VERSION:2.0
PRODID:-//Needham Local - ECPv6.15.20//NONSGML v1.0//EN
CALSCALE:GREGORIAN
METHOD:PUBLISH
X-WR-CALNAME:Needham Local
X-ORIGINAL-URL:https://needhamlocal.org
X-WR-CALDESC:Events for Needham Local
REFRESH-INTERVAL;VALUE=DURATION:PT1H
X-Robots-Tag:noindex
X-PUBLISHED-TTL:PT1H
BEGIN:VTIMEZONE
TZID:America/New_York
BEGIN:DAYLIGHT
TZOFFSETFROM:-0500
TZOFFSETTO:-0400
TZNAME:EDT
DTSTART:20250309T070000
END:DAYLIGHT
BEGIN:STANDARD
TZOFFSETFROM:-0400
TZOFFSETTO:-0500
TZNAME:EST
DTSTART:20251102T060000
END:STANDARD
BEGIN:DAYLIGHT
TZOFFSETFROM:-0500
TZOFFSETTO:-0400
TZNAME:EDT
DTSTART:20260308T070000
END:DAYLIGHT
BEGIN:STANDARD
TZOFFSETFROM:-0400
TZOFFSETTO:-0500
TZNAME:EST
DTSTART:20261101T060000
END:STANDARD
BEGIN:DAYLIGHT
TZOFFSETFROM:-0500
TZOFFSETTO:-0400
TZNAME:EDT
DTSTART:20270314T070000
END:DAYLIGHT
BEGIN:STANDARD
TZOFFSETFROM:-0400
TZOFFSETTO:-0500
TZNAME:EST
DTSTART:20271107T060000
END:STANDARD
END:VTIMEZONE
BEGIN:VEVENT
DTSTART;TZID=America/New_York:20260503T150000
DTEND;TZID=America/New_York:20260503T170000
DTSTAMP:20260419T153550
CREATED:20251127T194130Z
LAST-MODIFIED:20251201T163828Z
UID:10002059-1777820400-1777827600@needhamlocal.org
SUMMARY:50th Anniversary Concert | Needham Concert Society
DESCRIPTION:BOLD AND TIMELESS | The Needham Concert Society celebrates its fiftieth anniversary with a commissioned work by Pulitzer-nominated composer David Post and two string masterpieces\, a classically elegant string quintet by Mozart and Dvořák’s romantic and exuberant string sextet. \nThese programs are supported in part by a grant from the Needham Council for Arts and Culture\, ​a local agency which is supported by the Town of Needham and the Mass Cultural Council\, a state agency.
URL:https://needhamlocal.org/event/50th-anniversary-concert-needham-concert-society/
LOCATION:Carter Memorial UMC\, 800 Highland Avenue\, Needham\, 02494
CATEGORIES:Arts & Entertainment,Community Event,Town Celebrations & Events
ATTACH;FMTTYPE=image/jpeg:https://needhamlocal.org/wp-content/uploads/2025/11/50th-anniv-May-2026.jpg
END:VEVENT
BEGIN:VEVENT
DTSTART;TZID=America/New_York:20260503T160000
DTEND;TZID=America/New_York:20260503T180000
DTSTAMP:20260419T153550
CREATED:20260417T152246Z
LAST-MODIFIED:20260417T152246Z
UID:10002161-1777824000-1777831200@needhamlocal.org
SUMMARY:Notes of Hope: A Benefit for Immigrant Justice
DESCRIPTION:Enjoy a fun afternoon of music trivia\, light bites\, and refreshments while raising funds for our immigrant neighbors through Metrowest Worker Center – Casa. \nHosted by the Needham Area Immigration Justice Task Force with co-hosts Congregational Church of Needham\, UCC; First Parish\, UU; and Casa Allies\, this event features Music Trivia Through the Ages with a professional DJ. Tables will compete for the grand prize! \nBuy single tickets ($50) or a table for eight at a discount. At a time when so much can feel overwhelming\, it’s easy to wonder what you can do to make a difference–here’s one meaningful way to make an impact. \nThe Metrowest Worker Center – Casa is an immigrant worker-led organization which is responding daily to the critical needs of immigrants and their families in these troubled times. All proceeds from this event will go directly to Casa to aid immigrants. \nAll are welcome! \nLocation: Congregational Church of Needham\, UCC\, 1154 Great Plain Ave. (Linden St. entrance). The venue is accessible. \nInformation\, purchase tickets and/or donate: https://givebutter.com/notes-of-hope-qnx4ul \nQuestions: email info@immigrationneedham.org \nEvent Flyer: Click here
URL:https://needhamlocal.org/event/notes-of-hope-a-benefit-for-immigrant-justice/
LOCATION:Congregational Church of Needham\, 1154 Great Plain Avenue\, Needham\, 02492
CATEGORIES:Diversity, Equity & Inclusion,Giving Back
ATTACH;FMTTYPE=image/png:https://needhamlocal.org/wp-content/uploads/2026/04/May-3-GB-cover-254kb.png
ORGANIZER;CN="Needham Area Immigration Justice Task Force":MAILTO:info@immigrationneedham.org
END:VEVENT
END:VCALENDAR