BEGIN:VCALENDAR
VERSION:2.0
PRODID:-//Needham Local - ECPv6.15.20//NONSGML v1.0//EN
CALSCALE:GREGORIAN
METHOD:PUBLISH
X-ORIGINAL-URL:https://needhamlocal.org
X-WR-CALDESC:Events for Needham Local
REFRESH-INTERVAL;VALUE=DURATION:PT1H
X-Robots-Tag:noindex
X-PUBLISHED-TTL:PT1H
BEGIN:VTIMEZONE
TZID:America/New_York
BEGIN:DAYLIGHT
TZOFFSETFROM:-0500
TZOFFSETTO:-0400
TZNAME:EDT
DTSTART:20240310T070000
END:DAYLIGHT
BEGIN:STANDARD
TZOFFSETFROM:-0400
TZOFFSETTO:-0500
TZNAME:EST
DTSTART:20241103T060000
END:STANDARD
BEGIN:DAYLIGHT
TZOFFSETFROM:-0500
TZOFFSETTO:-0400
TZNAME:EDT
DTSTART:20250309T070000
END:DAYLIGHT
BEGIN:STANDARD
TZOFFSETFROM:-0400
TZOFFSETTO:-0500
TZNAME:EST
DTSTART:20251102T060000
END:STANDARD
BEGIN:DAYLIGHT
TZOFFSETFROM:-0500
TZOFFSETTO:-0400
TZNAME:EDT
DTSTART:20260308T070000
END:DAYLIGHT
BEGIN:STANDARD
TZOFFSETFROM:-0400
TZOFFSETTO:-0500
TZNAME:EST
DTSTART:20261101T060000
END:STANDARD
END:VTIMEZONE
BEGIN:VEVENT
DTSTART;TZID=America/New_York:20251202T190000
DTEND;TZID=America/New_York:20251202T230000
DTSTAMP:20260420T105030
CREATED:20251126T151218Z
LAST-MODIFIED:20251126T151218Z
UID:10002042-1764702000-1764716400@needhamlocal.org
SUMMARY:Needham Planning Board
DESCRIPTION:The Needham Planning Board meets for its regular session at the Public Service Administration Building at 500 Dedham Avenue. Due to multiple simultaneous meetings\, the Needham Channel will not be providing coverage. However\, the Planning Board holds their sessions in a hybrid manner\, so live coverage will be available online through Zoom. Look for the Needham Channel to subsequently air and stream the meeting through the Municipal Channel\, HD Channel\, at needhamchannel.org\, and through its free Roku App.
URL:https://needhamlocal.org/event/needham-planning-board-4/
LOCATION:Public Services Administration Building\, 500 Dedham Avenue\, Needham\, MA\, 02492\, United States
CATEGORIES:Housing,On Our Minds,Planning Board,The Needham Channel,Town Boards,Town Growth,Transportation
ATTACH;FMTTYPE=image/png:https://needhamlocal.org/wp-content/uploads/2024/07/Needham-Planning-Board-Button.png
END:VEVENT
BEGIN:VEVENT
DTSTART;TZID=America/New_York:20251203T190000
DTEND;TZID=America/New_York:20251203T210000
DTSTAMP:20260420T105030
CREATED:20251126T152117Z
LAST-MODIFIED:20251201T164323Z
UID:10002044-1764788400-1764795600@needhamlocal.org
SUMMARY:Needham Street Design Forum
DESCRIPTION:The Town of Needham is embarking on an initiative to develop a Street Design Guide. \nThe Street Design Guide will:\n• Translate the Town’s Complete Streets goals into everyday design practice\n• Establish clear\, consistent design features based on road usage and context \n• Integrate internal standards with state and federal best practices\n• Recommend new policies that will support Town’s transportation goals\n• Improve transparency and communication with residents about how roadway infrastructure is designed \nJoin the Mobility Planning & Coordination Committee and the Department of Public Works at a Hybrid Public Forum to learn more about the Street Design Guide where community members are invited to share ideas and help guide the future of Needham’s streets.  \nThe Forum will be held on Wednesday\, December 3rd from 7-9 pm in Powers Hall in Needham Town Hall\, via Zoom*\, and live streamed on The Needham Channel.  \n*Zoom link:   https://needham-k12-ma-us.zoom.us/j/81437464537?pwd=aWXQsQ0Rt6nWvw7IA8hQLJgX914Pwg.1
URL:https://needhamlocal.org/event/needham-street-design-forum/
LOCATION:Needham Town Hall – Powers Hall\, 1471 Highland Avenue\, Needham\, MA\, 02492\, United States
CATEGORIES:Business & Economy,Municipal Organizations,On Our Minds,Public Works,Town Growth,Transportation
ATTACH;FMTTYPE=image/jpeg:https://needhamlocal.org/wp-content/uploads/2025/11/DPW-Forum-12-3-25.jpg
END:VEVENT
BEGIN:VEVENT
DTSTART;TZID=America/New_York:20251206T090000
DTEND;TZID=America/New_York:20251206T130000
DTSTAMP:20260420T105030
CREATED:20251120T211029Z
LAST-MODIFIED:20251201T164421Z
UID:10002033-1765011600-1765026000@needhamlocal.org
SUMMARY:Annual Holiday Wreath and Arrangement Sale
DESCRIPTION:The Needham Garden Club will host its annual Holiday Wreath and Arrangement Sale on Saturday\, December 6th from 9 – 1 in the Fellowship Hall of the Needham Congregational Church (1154 Great Plain Avenue\, Needham). The sale will feature hand-crafted wreaths and a wide variety of creative arrangements for the holidays.\nParking for the event is in the rear of the building and the entrance to the sale is on Linden Street across from the Post Office.\nProceeds from the sale help sponsor educational programs in horticulture and floral design at the Needham Library\, Garden Therapy sessions at local assisted living and nursing homes\, a college scholarship for a Needham Senior planning to study biology\, horticulture\, conservation or environmental science and the planting and maintenance of community garden spaces around town.
URL:https://needhamlocal.org/event/annual-holiday-wreath-and-arrangement-sale/
LOCATION:Congregational Church of Needham\, 1154 Great Plain Avenue\, Needham\, 02492
CATEGORIES:Town Celebrations & Events
ATTACH;FMTTYPE=image/jpeg:https://needhamlocal.org/wp-content/uploads/2025/11/C9B0A98E-F801-4415-B761-409E48316740-scaled.jpg
ORGANIZER;CN="Needham Garden Club":MAILTO:sbcondon@aol.com
END:VEVENT
BEGIN:VEVENT
DTSTART;TZID=America/New_York:20251207T100000
DTEND;TZID=America/New_York:20251207T150000
DTSTAMP:20260420T105030
CREATED:20251106T165632Z
LAST-MODIFIED:20251106T165632Z
UID:10002024-1765101600-1765119600@needhamlocal.org
SUMMARY:Holiday Sale & Book Signing
DESCRIPTION:Do your holiday shopping while enjoying refreshments\, music\, and exhibits! We have unique Needham merchandise – gifts for everyone on your list! (You know it’s not too early to start…) \nAnd check out our Heirloom Shop for serveware\, barware\, and vintage table pieces to decorate your home and dress up your holiday table. Here is your big chance to pick up that extra set of matching glasses before the guests arrive! \nGloria will also be on hand to sign her new book\, All Roads Lead to Needham. Wow! So much to do\, all in one place!
URL:https://needhamlocal.org/event/holiday-sale-book-signing/
LOCATION:Needham History Center & Museum\, 1147 Central Ave.\, Needham\, MA\, 02492\, United States
CATEGORIES:Community Event,Needham History Center & Museum,Town Celebrations & Events
ATTACH;FMTTYPE=image/jpeg:https://needhamlocal.org/wp-content/uploads/2025/11/NHCM-Holiday-Sale-2025.jpg
ORGANIZER;CN="Needham History Center & Museum":MAILTO:g.greis@rcn.com
END:VEVENT
BEGIN:VEVENT
DTSTART;TZID=America/New_York:20251207T140000
DTEND;TZID=America/New_York:20251207T153000
DTSTAMP:20260420T105030
CREATED:20251126T153302Z
LAST-MODIFIED:20251126T153302Z
UID:10002045-1765116000-1765121400@needhamlocal.org
SUMMARY:Sunday Salon: “American Eldercide and Ageism Today”
DESCRIPTION:The Friends of the Needham Public Library present: \nA Fresh Voice from the Harlem Renaissance: Dorothy Peterson\nWellesley College professor Octavio Gonzalez will celebrate the Harlem Renaissance of 100 years ago through the lens of educator/translator Dorothy R. Peterson\, an important figure whose legacy has been overshadowed by other luminaries. Peterson was a close friend of novelist Nella Larsen\, as well as poet Langston Hughes\, with whom Peterson collaborated on many translations from the Spanish to the English. Peterson also introduced Hughes to major Puerto Rican poets of the era\, including Nicolás Guillén\, with whom Hughes developed a close relationship as fellow poets. Professor Gonzalez will present other aspects of Peterson’s life\, including her lifelong work as a teacher and educator as well as her final years as an expatriate in Spain. In the final decades of her career\, Peterson devoted herself to archiving the manuscripts and ephemera of the Harlem Renaissance\, ensuring the continuity of that period into the present\, by curating and helping to promote the James Weldon Johnson Memorial Collection of African-American Arts and Letters at Yale University. This Collection is where Peterson’s own papers are found.  \nProfessor González is the Barbara Morris Caspersen Associate Professor of Humanities and an Associate Professor of English & Creative Writing at Wellesley College. He is the President of the Modernist Studies Association and on the editorial board of the Queer Feminist Maternities Book Series. \nThis Program is sponsored by the Friends of the Needham Public Library. Registration is required\, as we have a current capacity limit of 108.  \n***IF YOU DO NOT RECEIVE A CONFIRMATION E-MAIL AFTER REGISTERING\, PLEASE CALL THE REFERENCE DEPARTMENT (781-455-7559 X2) TO CHECK REGISTRATION STATUS***
URL:https://needhamlocal.org/event/sunday-salon-american-eldercide-and-ageism-today-2/
LOCATION:Needham Public Library Community Room\, 1139 Highland Avenue\, Needham\, MA\, 02494\, United States
CATEGORIES:Beyond Needham,Community Event,Friends of The Needham Public Library,Municipal Organizations,Needham Public Library
END:VEVENT
BEGIN:VEVENT
DTSTART;TZID=America/New_York:20251209T083000
DTEND;TZID=America/New_York:20251209T100000
DTSTAMP:20260420T105030
CREATED:20251126T144929Z
LAST-MODIFIED:20251126T144929Z
UID:10002036-1765269000-1765274400@needhamlocal.org
SUMMARY:SPAN Winter Meeting
DESCRIPTION:The Substance Prevention Alliance of Needham\, in collaboration with the Needham Public Health Division will hold its winter meeting on Tuesday\, December 9th at 8:30am. It is an in-person event taking place at the Rosemary Recreation Complex\, 178 Rosemary Street. Registration is required. Click on this link to learn more.
URL:https://needhamlocal.org/event/span-winter-meeting/
LOCATION:Rosemary Recreation Complex\, 178 Rosemary Street\, Needham\, 02494\, United States
CATEGORIES:Health & Wellness,Municipal Organizations,Needham Public Health,On Our Minds,Parenting
ATTACH;FMTTYPE=image/jpeg:https://needhamlocal.org/wp-content/uploads/2025/11/SPAN-Winter-Meeting-2025.jpg
END:VEVENT
BEGIN:VEVENT
DTSTART;TZID=America/New_York:20251213T120000
DTEND;TZID=America/New_York:20251213T130000
DTSTAMP:20260420T105030
CREATED:20251117T213233Z
LAST-MODIFIED:20251201T164523Z
UID:10002031-1765627200-1765630800@needhamlocal.org
SUMMARY:Wreaths Across America
DESCRIPTION:Please join Needham’s Col. William McIntosh Chapter of the Daughters of the American Revolution in honoring all of Needham’s deceased veterans during our fifth annual Wreaths Across America ceremony. The event starts at noon at the veterans’ section of the Needham Cemetery. All are welcome and refreshments will be served.
URL:https://needhamlocal.org/event/wreaths-across-america/
LOCATION:Needham Cemetery\, 128 Nehoiden St\, Needham\, MA\, Needham\, MA\, 02492\, United States
CATEGORIES:Community Event,Needham Veterans Services,Town Celebrations & Events
ATTACH;FMTTYPE=image/jpeg:https://needhamlocal.org/wp-content/uploads/2025/11/WAAflyer-2025.jpg
ORGANIZER;CN="Daughters of the American Revolution":MAILTO:jenbello.dar@gmail.com
END:VEVENT
BEGIN:VEVENT
DTSTART;TZID=America/New_York:20251216T190000
DTEND;TZID=America/New_York:20251216T230000
DTSTAMP:20260420T105030
CREATED:20251126T151230Z
LAST-MODIFIED:20251126T151230Z
UID:10002043-1765911600-1765926000@needhamlocal.org
SUMMARY:Needham Planning Board
DESCRIPTION:The Needham Planning Board meets for its regular session at the Public Service Administration Building at 500 Dedham Avenue. Due to multiple simultaneous meetings\, the Needham Channel will not be providing coverage. However\, the Planning Board holds their sessions in a hybrid manner\, so live coverage will be available online through Zoom. Look for the Needham Channel to subsequently air and stream the meeting through the Municipal Channel\, HD Channel\, at needhamchannel.org\, and through its free Roku App.
URL:https://needhamlocal.org/event/needham-planning-board-6/
LOCATION:Public Services Administration Building\, 500 Dedham Avenue\, Needham\, MA\, 02492\, United States
CATEGORIES:Housing,On Our Minds,Planning Board,The Needham Channel,Town Boards,Town Growth,Transportation
ATTACH;FMTTYPE=image/png:https://needhamlocal.org/wp-content/uploads/2024/07/Needham-Planning-Board-Button.png
END:VEVENT
BEGIN:VEVENT
DTSTART;TZID=America/New_York:20251221T080000
DTEND;TZID=America/New_York:20251221T170000
DTSTAMP:20260420T105030
CREATED:20251219T183426Z
LAST-MODIFIED:20251219T183426Z
UID:10002070-1766304000-1766336400@needhamlocal.org
SUMMARY:World Meditation Day Event
DESCRIPTION:Needham will join 100+ cities across the U.S. in celebrating the UN’s second annual World Meditation Day\, streamed LIVE and led by Gurudev from New York City. FREE event\, open to all. No prior experience needed. \nWhere: Blue Lotus Healing Arts\, 945 Great Plain Ave\, Needham MA\nWhen: Sunday\, December 21\, 2025 @ 9:30am ET\nFREE Event. RSVP @ https://tiny.cc/needhammeditates \nLet’s come together to fill our town with calm\, compassion\, and collective intention.\nYour presence matters. Your silence is powerful.
URL:https://needhamlocal.org/event/world-meditation-day-event/2025-12-21/1/
LOCATION:Blue Lotus Healing Arts\, 945 Great Plain Ave\, Needham\, MA\, 02492\, United States
CATEGORIES:Health & Wellness
ATTACH;FMTTYPE=image/png:https://needhamlocal.org/wp-content/uploads/2025/12/World-Mediation-Day-Dec-21-2025-Needham-2.png
ORGANIZER;CN="Art of Living%2C Needham-Newton":MAILTO:shruti.dalvi@artofliving.org
END:VEVENT
BEGIN:VEVENT
DTSTART;TZID=America/New_York:20251221T093000
DTEND;TZID=America/New_York:20251221T110000
DTSTAMP:20260420T105030
CREATED:20251219T183426Z
LAST-MODIFIED:20251219T183426Z
UID:10002069-1766309400-1766314800@needhamlocal.org
SUMMARY:World Meditation Day Event
DESCRIPTION:Needham will join 100+ cities across the U.S. in celebrating the UN’s second annual World Meditation Day\, streamed LIVE and led by Gurudev from New York City. FREE event\, open to all. No prior experience needed. \nWhere: Blue Lotus Healing Arts\, 945 Great Plain Ave\, Needham MA\nWhen: Sunday\, December 21\, 2025 @ 9:30am ET\nFREE Event. RSVP @ https://tiny.cc/needhammeditates \nLet’s come together to fill our town with calm\, compassion\, and collective intention.\nYour presence matters. Your silence is powerful.
URL:https://needhamlocal.org/event/world-meditation-day-event/2025-12-21/2/
LOCATION:Blue Lotus Healing Arts\, 945 Great Plain Ave\, Needham\, MA\, 02492\, United States
CATEGORIES:Health & Wellness
ATTACH;FMTTYPE=image/png:https://needhamlocal.org/wp-content/uploads/2025/12/World-Mediation-Day-Dec-21-2025-Needham-2.png
ORGANIZER;CN="Art of Living%2C Needham-Newton":MAILTO:shruti.dalvi@artofliving.org
END:VEVENT
BEGIN:VEVENT
DTSTART;TZID=America/New_York:20251231T190000
DTEND;TZID=America/New_York:20251231T213000
DTSTAMP:20260420T105030
CREATED:20251127T194040Z
LAST-MODIFIED:20251201T163520Z
UID:10002056-1767207600-1767216600@needhamlocal.org
SUMMARY:First Night | Needham Concert Society
DESCRIPTION:NEW YEAR’S SHOWCASE | The Needham Concert Society reprises their beloved First Night concert\, in which exceptionally talented students and the society’s favorite professional guests perform highlights from the chamber music and chamber orchestra repertoire. \nThese programs are supported in part by a grant from the Needham Council for Arts and Culture\, ​a local agency which is supported by the Town of Needham and the Mass Cultural Council\, a state agency.
URL:https://needhamlocal.org/event/first-night-needham-concert-society/
LOCATION:Carter Memorial UMC\, 800 Highland Avenue\, Needham\, 02494
CATEGORIES:Arts & Entertainment,Community Event,Town Celebrations & Events
ATTACH;FMTTYPE=image/jpeg:https://needhamlocal.org/wp-content/uploads/2025/11/NCS-2-NYE-2025.jpg
END:VEVENT
END:VCALENDAR