BEGIN:VCALENDAR
VERSION:2.0
PRODID:-//Needham Local - ECPv6.15.20//NONSGML v1.0//EN
CALSCALE:GREGORIAN
METHOD:PUBLISH
X-WR-CALNAME:Needham Local
X-ORIGINAL-URL:https://needhamlocal.org
X-WR-CALDESC:Events for Needham Local
REFRESH-INTERVAL;VALUE=DURATION:PT1H
X-Robots-Tag:noindex
X-PUBLISHED-TTL:PT1H
BEGIN:VTIMEZONE
TZID:America/New_York
BEGIN:DAYLIGHT
TZOFFSETFROM:-0500
TZOFFSETTO:-0400
TZNAME:EDT
DTSTART:20240310T070000
END:DAYLIGHT
BEGIN:STANDARD
TZOFFSETFROM:-0400
TZOFFSETTO:-0500
TZNAME:EST
DTSTART:20241103T060000
END:STANDARD
BEGIN:DAYLIGHT
TZOFFSETFROM:-0500
TZOFFSETTO:-0400
TZNAME:EDT
DTSTART:20250309T070000
END:DAYLIGHT
BEGIN:STANDARD
TZOFFSETFROM:-0400
TZOFFSETTO:-0500
TZNAME:EST
DTSTART:20251102T060000
END:STANDARD
BEGIN:DAYLIGHT
TZOFFSETFROM:-0500
TZOFFSETTO:-0400
TZNAME:EDT
DTSTART:20260308T070000
END:DAYLIGHT
BEGIN:STANDARD
TZOFFSETFROM:-0400
TZOFFSETTO:-0500
TZNAME:EST
DTSTART:20261101T060000
END:STANDARD
END:VTIMEZONE
BEGIN:VEVENT
DTSTART;TZID=America/New_York:20251101T080000
DTEND;TZID=America/New_York:20251101T110000
DTSTAMP:20260420T192118
CREATED:20251030T153804Z
LAST-MODIFIED:20251030T153804Z
UID:10002005-1761984000-1761994800@needhamlocal.org
SUMMARY:Rotary Pancake Breakfast Festival
DESCRIPTION:This year’s Needham Rotary Pancake Breakfast will be on Saturday\, November 1 from 8:00 AM to 11:00 AM at Newman Elementary School in Needham. All you can eat pancakes\, sausages\, and drinks for $8.\n \nOrder your tickets now online to avoid long lines the day of the event.  NeedhamPancakes.com\n \nJoin us for kids games like the Lollipop Tree\, the Hockey Shoot\, the Fishing Pond\, the Wheel of Wow\, and more… You can pre-order tickets for the kids games: 40 tickets for $20. Pre-order now and we’ll hand you the tickets when you sign in — no need to wait in a second line!
URL:https://needhamlocal.org/event/rotary-pancake-breakfast-festival/
LOCATION:Newman School\, Needham\, MA\, 02492\, United States
CATEGORIES:Community Event,Giving Back,Needham Rotary Club,Town Celebrations & Events
ATTACH;FMTTYPE=image/jpeg:https://needhamlocal.org/wp-content/uploads/2025/10/Rotary-Pancake-Breakfast.jpg
END:VEVENT
BEGIN:VEVENT
DTSTART;TZID=America/New_York:20251101T110000
DTEND;TZID=America/New_York:20251101T160000
DTSTAMP:20260420T192118
CREATED:20251030T154235Z
LAST-MODIFIED:20251030T154235Z
UID:10002006-1761994800-1762012800@needhamlocal.org
SUMMARY:Needham Open Studios Fall Pop-up
DESCRIPTION:Saturday\, November 1st\n11am – 4pm\nCongregational Church of Needham\n1154 Great Plain Avenue \nThe artists of Needham Open Studios welcome you to a Fall Pop-Up on Saturday\, November 1st\, at the Congregational Church of Needham. \nMeet the Needham artists and treat yourself to the quality and craftsmanship of original paintings\, photographs\, prints\, illustrations\, fiber arts\, mixed media and handcrafted fine jewelry. \nFree admission and parking.
URL:https://needhamlocal.org/event/needham-open-studios-fall-pop-up/
LOCATION:Congregational Church of Needham\, 1154 Great Plain Avenue\, Needham\, 02492
CATEGORIES:Arts & Entertainment,Business & Economy,Town Celebrations & Events
END:VEVENT
BEGIN:VEVENT
DTSTART;TZID=America/New_York:20251101T193000
DTEND;TZID=America/New_York:20251101T210000
DTSTAMP:20260420T192118
CREATED:20251030T152407Z
LAST-MODIFIED:20251030T152407Z
UID:10002004-1762025400-1762030800@needhamlocal.org
SUMMARY:Great Hall Concert Series
DESCRIPTION:This show is SOLD OUT!\nWe all remember hits like “Still the One\,” “Dance with Me\,” and “Love Takes Time.” Platinum hit-makers ORLEANS are celebrating more than 50 YEARS of live performances! \nPraised by their peers for their songwriting skills\, instrumental prowess and classic trademark harmonies\, their iconic radio hits still resonate with audiences of all ages thanks to continued airplay on Classic Rock radio\, television\, film and streaming services.  Orleans have produced a body of work spanning 17 albums and several DVDs\, and they continue to be in demand for live shows\, as they have been for more than 5 decades. \nOver time\, Orleans have enjoyed great success\, but have also experienced tragedy. The untimely death of Wells Kelly in 1984 and the sudden passing of mainstay Larry Hoppen in 2012\, prompted the return of co-founder and former US Congressman John Hall (now retired from the road band). Co-Founder Lance Hoppen and longtime bandmates Lane Hoppen\, Fly Amero\, and Tony Hooper are now joined by Nashville veterans Brady Spencer and Tom Lane on drums and guitar\, respectively. Together they faithfully deliver the musical elements you have come to expect from this class act\, with power and integrity. \nSince their humble beginnings in Woodstock NY and throughout countless worldwide tours\, Orleans have set standards respected by other musicians. Today and beyond\, Orleans will continue to meet and exceed those standards at every show\, to the delight of audiences everywhere. \nFind out More about the 2025 Great Hall Consert Series.
URL:https://needhamlocal.org/event/great-hall-concert-series/
LOCATION:Needham Town Hall – Powers Hall\, 1471 Highland Avenue\, Needham\, MA\, 02492\, United States
CATEGORIES:Arts & Entertainment,On Our Minds
ATTACH;FMTTYPE=image/jpeg:https://needhamlocal.org/wp-content/uploads/2025/10/orleans-slider.jpeg
ORGANIZER;CN="Great Hall Concert Series":MAILTO:info@greathallperformance.org
END:VEVENT
BEGIN:VEVENT
DTSTART;TZID=America/New_York:20251111T110000
DTEND;TZID=America/New_York:20251111T120000
DTSTAMP:20260420T192118
CREATED:20251030T161551Z
LAST-MODIFIED:20251030T161551Z
UID:10002008-1762858800-1762862400@needhamlocal.org
SUMMARY:Veterans Day Ceremony
DESCRIPTION:11:00 A.M. VETERANS DAY CEREMONIES AT MEMORIAL PARK:\n• Introduction and Welcome to the Veterans and Citizens: Jason Kravetz\n• Opening Prayer: Reverend Nicholas Morris-Kliment\, Christ Episcopal Church\n• Raising the National Ensign and National Anthem\n• Original Reading\n• Address by Senator\n• Placement of Wreath\n• Address by State Representative\n• The Commonwealth of Massachusetts Proclamation\n• In Flanders Field Reading\n• Address by Heidi Frail\, Select Board\, Chair\, Town of Needham\n• Proclamation by Select Board\n• Speech by VFW Commander: Gene Charny\n• Benediction: Reverend Nicholas Morris-Kliment\, Christ Episcopal Church\n• Closing Remarks: Master of Ceremony\, Jason Kravetz\n\n\n\n\nFree and all are welcome.
URL:https://needhamlocal.org/event/veterans-day-ceremony/
LOCATION:Memorial Park\, Needham\, Needham\, MA\, 02494\, United States
CATEGORIES:Community Event,Municipal Organizations,Needham Veterans Services,On Our Minds,Town Celebrations & Events
END:VEVENT
BEGIN:VEVENT
DTSTART;TZID=America/New_York:20251112T190000
DTEND;TZID=America/New_York:20251112T230000
DTSTAMP:20260420T192118
CREATED:20251030T164552Z
LAST-MODIFIED:20251030T164552Z
UID:10002014-1762974000-1762988400@needhamlocal.org
SUMMARY:Needham Planning Board
DESCRIPTION:The Needham Planning Board is meeting at unusual times this month due to the addition of several community meetings. Due to this\, the Needham Channel will not be providing coverage for its regular sessions. However\, the Planning Board will be holding their sessions in a hybrid manner\, so live coverage will be available online. Look for the Needham Channel to subsequently air and stream the meeting through the Municipal Channel\, HD Channel\, at needhamchannel.org\, and through its free Roku App.
URL:https://needhamlocal.org/event/needham-planning-board-3/
LOCATION:Select Board Chambers at Town Hall\, 1471 Highland Avenue\, Needham\, MA\, 02492\, United States
CATEGORIES:Housing,On Our Minds,Planning Board,The Needham Channel,Town Boards,Town Growth,Transportation
ATTACH;FMTTYPE=image/png:https://needhamlocal.org/wp-content/uploads/2024/07/Needham-Planning-Board-Button.png
END:VEVENT
BEGIN:VEVENT
DTSTART;TZID=America/New_York:20251115T193000
DTEND;TZID=America/New_York:20251115T220000
DTSTAMP:20260420T192118
CREATED:20251114T012609Z
LAST-MODIFIED:20251114T012609Z
UID:10002028-1763235000-1763244000@needhamlocal.org
SUMMARY:A Joyful Call for Unity: Beethoven’s Symphony No. 9 Brings Together Our Local Communities
DESCRIPTION:This coming weekend\, the New Philharmonia Orchestra invites you to experience one of music’s most powerful celebrations of humanity—Beethoven’s Symphony No. 9 in D minor\, Op. 125\, performed live in the heart of Newton. \nFew works speak so directly to the spirit of community as the Ninth Symphony. Beethoven’s visionary setting of Schiller’s “Ode to Joy” proclaims\, “All men become brothers\,” a message that transcends time\, culture\, and language. In an age when connection and compassion are more vital than ever\, the New Phil’s performance brings this call for unity to life—right here among our neighbors. The orchestra\, under the direction of Maestro Jorge Soto\, joins forces with local choirs and vocal soloists. Together\, they embody the orchestra’s motto\, “Music for All\,”  blending professional artistry with the warmth and diversity of our communities. The City of Newton Mayor Ruthanne Fuller will deliver an opening speech at 7:30 pm Saturday\, November 15th.
URL:https://needhamlocal.org/event/a-joyful-call-for-unity-beethovens-symphony-no-9-brings-together-our-local-communities/
LOCATION:Trinity Chapel\, Boston College\, 885 Centre Street\, Newton Centre\, MA\, 02459\, United States
CATEGORIES:Arts & Entertainment,Beyond Needham,Community Event
ATTACH;FMTTYPE=image/png:https://needhamlocal.org/wp-content/uploads/2025/11/B9-poster.png
ORGANIZER;CN="New Philharmonia Orchestra":MAILTO:treasurer@newphil.org
END:VEVENT
BEGIN:VEVENT
DTSTART;TZID=America/New_York:20251116T110000
DTEND;TZID=America/New_York:20251116T140000
DTSTAMP:20260420T192118
CREATED:20251030T160629Z
LAST-MODIFIED:20251030T160629Z
UID:10002007-1763290800-1763301600@needhamlocal.org
SUMMARY:Needham Open Studios Art Exhibit & Opening Reception
DESCRIPTION:Sunday\, November 16th\n11am – 2pm\nCommunity Art Gallery\, Christ Church\n1132 Highland Avenue \nHoliday Sale and Opening Reception\, with Orginal Art and Fine Crafts. The Gallery is open Monday through Friday from 9am to 2pm\, and Sundays from 9am to 12pm. A portion of the sales will be donated to the Needham Community Council.
URL:https://needhamlocal.org/event/needham-open-studios-art-exhibit-opening-reception/
LOCATION:Christ Episcopal Church\, 1132 Highland Avenue\, Needham\, MA\, 02494\, United States
CATEGORIES:Arts & Entertainment,Business & Economy,Town Celebrations & Events
END:VEVENT
BEGIN:VEVENT
DTSTART;TZID=America/New_York:20251119T190000
DTEND;TZID=America/New_York:20251119T230000
DTSTAMP:20260420T192118
CREATED:20251030T164625Z
LAST-MODIFIED:20251030T164645Z
UID:10002015-1763578800-1763593200@needhamlocal.org
SUMMARY:Needham Planning Board
DESCRIPTION:The Needham Planning Board is meeting at unusual times this month due to the addition of several community meetings. Due to this\, the Needham Channel will not be providing coverage for its regular sessions. However\, the Planning Board will be holding their sessions in a hybrid manner\, so live coverage will be available online. Look for the Needham Channel to subsequently air and stream the meeting through the Municipal Channel\, HD Channel\, at needhamchannel.org\, and through its free Roku App.
URL:https://needhamlocal.org/event/needham-planning-board-22/
LOCATION:Public Services Administration Building\, 500 Dedham Avenue\, Needham\, MA\, 02492\, United States
CATEGORIES:Housing,On Our Minds,Planning Board,The Needham Channel,Town Boards,Town Growth,Transportation
ATTACH;FMTTYPE=image/png:https://needhamlocal.org/wp-content/uploads/2024/07/Needham-Planning-Board-Button.png
END:VEVENT
END:VCALENDAR