BEGIN:VCALENDAR
VERSION:2.0
PRODID:-//Needham Local - ECPv6.15.20//NONSGML v1.0//EN
CALSCALE:GREGORIAN
METHOD:PUBLISH
X-WR-CALNAME:Needham Local
X-ORIGINAL-URL:https://needhamlocal.org
X-WR-CALDESC:Events for Needham Local
REFRESH-INTERVAL;VALUE=DURATION:PT1H
X-Robots-Tag:noindex
X-PUBLISHED-TTL:PT1H
BEGIN:VTIMEZONE
TZID:America/New_York
BEGIN:DAYLIGHT
TZOFFSETFROM:-0500
TZOFFSETTO:-0400
TZNAME:EDT
DTSTART:20240310T070000
END:DAYLIGHT
BEGIN:STANDARD
TZOFFSETFROM:-0400
TZOFFSETTO:-0500
TZNAME:EST
DTSTART:20241103T060000
END:STANDARD
BEGIN:DAYLIGHT
TZOFFSETFROM:-0500
TZOFFSETTO:-0400
TZNAME:EDT
DTSTART:20250309T070000
END:DAYLIGHT
BEGIN:STANDARD
TZOFFSETFROM:-0400
TZOFFSETTO:-0500
TZNAME:EST
DTSTART:20251102T060000
END:STANDARD
BEGIN:DAYLIGHT
TZOFFSETFROM:-0500
TZOFFSETTO:-0400
TZNAME:EDT
DTSTART:20260308T070000
END:DAYLIGHT
BEGIN:STANDARD
TZOFFSETFROM:-0400
TZOFFSETTO:-0500
TZNAME:EST
DTSTART:20261101T060000
END:STANDARD
END:VTIMEZONE
BEGIN:VEVENT
DTSTART;TZID=America/New_York:20250805T050000
DTEND;TZID=America/New_York:20250805T200000
DTSTAMP:20260423T152959
CREATED:20250725T132442Z
LAST-MODIFIED:20250725T132442Z
UID:10001910-1754370000-1754424000@needhamlocal.org
SUMMARY:Annual National Night Out
DESCRIPTION:On Tuesday\, August 5th\, the Needham Police Department will be hosting its second annual National Night Out event on Town Common from 5-8 pm. National Night Out involves over 16\,800 communities from all 50 states\, U.S. territories and military bases around the world.  \nIt is designed to:\n• Heighten crime and drug prevention awareness\n• Generate support for\, and participation in\, local anticrime efforts\n• Strengthen neighborhood spirit and police-community partnerships\n•Send a message to criminals letting them know neighborhoods are organized and fighting back. \nNational Night out enhances the relationship between neighbors and law enforcement while bringing back a true sense of community.\nCome by on Tuesday evening to visit Officer Rocket and K9 Ghost\, check out the police vehicles and a drone demonstration\, and enjoy a treat from NPD’s ice cream truck.  This is a free community event and all are welcome!
URL:https://needhamlocal.org/event/annual-national-night-out/
LOCATION:Needham Town Common\, Garrity's Way\, Needham\, MA\, 02492\, United States
CATEGORIES:Beyond Needham,Community Event,Public Safety
END:VEVENT
BEGIN:VEVENT
DTSTART;TZID=America/New_York:20250805T190000
DTEND;TZID=America/New_York:20250805T200000
DTSTAMP:20260423T152959
CREATED:20250724T210208Z
LAST-MODIFIED:20250724T210209Z
UID:10001902-1754420400-1754424000@needhamlocal.org
SUMMARY:Stormwater By-Law Review Public Listening Session
DESCRIPTION:The Stormwater By-Law Review Working Group is going to hold a public listening session to share proposed recommendations for updates to the Town’s Stormwater By-Law\, which will be up for a vote at the upcoming Fall Special Town Meeting. \nThe session will take place on Tuesday\, August 5th from 7pm-8pm in Powers Hall at Needham Town Hall.  \nThe session will include a brief presentation introducing the Committee\, outline the review process and summarize the proposed changes to the By-Law. \nThe session will be covered live by the Needham Channel for those who are unable to make it in person\, and will be held in a hybrid format using the Zoom meeting platform. Please visit the town website for details.
URL:https://needhamlocal.org/event/stormwater-by-law-review-public-listening-session/
LOCATION:Needham Town Hall – Powers Hall\, 1471 Highland Avenue\, Needham\, MA\, 02492\, United States
CATEGORIES:Climate and Sustainability,Community Event,Housing,Municipal Organizations,Town Boards
END:VEVENT
BEGIN:VEVENT
DTSTART;TZID=America/New_York:20250807T190000
DTEND;TZID=America/New_York:20250807T193000
DTSTAMP:20260423T152959
CREATED:20250725T132930Z
LAST-MODIFIED:20250725T132930Z
UID:10001911-1754593200-1754595000@needhamlocal.org
SUMMARY:Needham Purple Heart Day Observance
DESCRIPTION:Please take a moment today to reflect on the sacrifices of those who were injured or killed as a result of serving their country. A brief ceremony will take place at the Memorial Park Gazebo at 7pm. \nThe Purple Heart Standard will be raised\, where it will remain for three days\, and the names of Needham residents who served and received the Purple Heart will be read.
URL:https://needhamlocal.org/event/needham-purple-heart-day-observance-2/
LOCATION:Memorial Park\, Needham\, Needham\, MA\, 02494\, United States
CATEGORIES:Community Event,Municipal Organizations,Needham Veterans Services,On Our Minds,Town Boards,Town Celebrations & Events
ATTACH;FMTTYPE=image/png:https://needhamlocal.org/wp-content/uploads/2024/07/Purple-Heart-Banner.png
END:VEVENT
BEGIN:VEVENT
DTSTART;TZID=America/New_York:20250812T190000
DTEND;TZID=America/New_York:20250812T230000
DTSTAMP:20260423T152959
CREATED:20250724T211123Z
LAST-MODIFIED:20250724T211123Z
UID:10001905-1755025200-1755039600@needhamlocal.org
SUMMARY:Needham Planning Board
DESCRIPTION:The Needham Planning Board is meeting for their only regular session this month. Due to the simultaneous Select Board meeting\, we will be providing live coverage on the hybrid feed available through Zoom\, and look for the Needham Channel to subsequently air and stream the meeting through the Municipal Channel\, HD Channel\, online\, and through our Roku App.
URL:https://needhamlocal.org/event/needham-planning-board-19/
LOCATION:Public Services Administration Building\, 500 Dedham Avenue\, Needham\, MA\, 02492\, United States
CATEGORIES:Housing,On Our Minds,Planning Board,The Needham Channel,Town Boards,Town Growth,Transportation
ATTACH;FMTTYPE=image/png:https://needhamlocal.org/wp-content/uploads/2024/07/Needham-Planning-Board-Button.png
END:VEVENT
BEGIN:VEVENT
DTSTART;TZID=America/New_York:20250821T183000
DTEND;TZID=America/New_York:20250821T200000
DTSTAMP:20260423T152959
CREATED:20250725T133359Z
LAST-MODIFIED:20250725T133359Z
UID:10001912-1755801000-1755806400@needhamlocal.org
SUMMARY:Virtual Community Meeting on Pollard School
DESCRIPTION:Join Needham Public Schools and the Town of Needham on Thursday\, August 21st at 6:30 pm for a virtual community meeting by Zoom to discuss the vision for the Pollard Middle School Project. There will be time reserved for questions and answers. \nAs the Town begins planning a reimagined middle school facility\, your voice as a community member is a vital part of the process. Join us at this important meeting as your perspective is essential as we shape the future of our schools and community. \nFind more information about the Pollard Middle School Project in the Needham Public School’s Master Plan. \nClick HERE for the Zoom Link of the August 21st event.
URL:https://needhamlocal.org/event/virtual-community-meeting-on-pollard-school/
LOCATION:Zoom
CATEGORIES:Needham Public Schools,School Committee,Town Boards,Town Growth
END:VEVENT
BEGIN:VEVENT
DTSTART;TZID=America/New_York:20250828T183000
DTEND;TZID=America/New_York:20250828T191000
DTSTAMP:20260423T152959
CREATED:20250724T212317Z
LAST-MODIFIED:20250825T155937Z
UID:10001908-1756405800-1756408200@needhamlocal.org
SUMMARY:Overdose Awareness Vigil
DESCRIPTION:Needham’s 4th Annual Overdose Awareness Vigil\n6:30-7:10pm at the Memorial Park Gazebo\nInternational Overdose Awareness Day is an opportunity to remember\, without stigma\, those who have died\, and acknowledge the grief of the family and friends left behind. Needham’s observance will include speakers\, a memorial flag display\, and the distribution of informational materials to support community members of all ages. The event is free and open to the public. All are welcome.
URL:https://needhamlocal.org/event/overdose-awareness-vigil/
LOCATION:Memorial Park\, Needham\, Needham\, MA\, 02494\, United States
CATEGORIES:Community Event,Health & Wellness,On Our Minds,Town Celebrations & Events
END:VEVENT
END:VCALENDAR