BEGIN:VCALENDAR
VERSION:2.0
PRODID:-//Needham Local - ECPv6.15.20//NONSGML v1.0//EN
CALSCALE:GREGORIAN
METHOD:PUBLISH
X-WR-CALNAME:Needham Local
X-ORIGINAL-URL:https://needhamlocal.org
X-WR-CALDESC:Events for Needham Local
REFRESH-INTERVAL;VALUE=DURATION:PT1H
X-Robots-Tag:noindex
X-PUBLISHED-TTL:PT1H
BEGIN:VTIMEZONE
TZID:America/New_York
BEGIN:DAYLIGHT
TZOFFSETFROM:-0500
TZOFFSETTO:-0400
TZNAME:EDT
DTSTART:20240310T070000
END:DAYLIGHT
BEGIN:STANDARD
TZOFFSETFROM:-0400
TZOFFSETTO:-0500
TZNAME:EST
DTSTART:20241103T060000
END:STANDARD
BEGIN:DAYLIGHT
TZOFFSETFROM:-0500
TZOFFSETTO:-0400
TZNAME:EDT
DTSTART:20250309T070000
END:DAYLIGHT
BEGIN:STANDARD
TZOFFSETFROM:-0400
TZOFFSETTO:-0500
TZNAME:EST
DTSTART:20251102T060000
END:STANDARD
BEGIN:DAYLIGHT
TZOFFSETFROM:-0500
TZOFFSETTO:-0400
TZNAME:EDT
DTSTART:20260308T070000
END:DAYLIGHT
BEGIN:STANDARD
TZOFFSETFROM:-0400
TZOFFSETTO:-0500
TZNAME:EST
DTSTART:20261101T060000
END:STANDARD
END:VTIMEZONE
BEGIN:VEVENT
DTSTART;TZID=America/New_York:20250709T100000
DTEND;TZID=America/New_York:20250709T200000
DTSTAMP:20260424T005409
CREATED:20250707T154015Z
LAST-MODIFIED:20250707T154015Z
UID:10001900-1752055200-1752091200@needhamlocal.org
SUMMARY:Pollard Middle School Project Listening Sessions
DESCRIPTION:
URL:https://needhamlocal.org/event/pollard-middle-school-project-listening-sessions/
LOCATION:Zoom
CATEGORIES:Municipal Organizations,Public Works,School Committee,Select Board,Town Growth
END:VEVENT
BEGIN:VEVENT
DTSTART;TZID=America/New_York:20250722T190000
DTEND;TZID=America/New_York:20250722T230000
DTSTAMP:20260424T005409
CREATED:20250707T152934Z
LAST-MODIFIED:20250707T152934Z
UID:10001898-1753210800-1753225200@needhamlocal.org
SUMMARY:Needham Planning Board
DESCRIPTION:The Needham Planning Board is meeting for their only regular session this month. Due to the simultaneous Select Board meeting\, we will be providing live coverage on the hybrid feed available through Zoom\, and look for the Needham Channel to subsequently air and stream the meeting through the Municipal Channel\, HD Channel\, online\, and through our Roku App.
URL:https://needhamlocal.org/event/needham-planning-board-18/
LOCATION:Public Services Administration Building\, 500 Dedham Avenue\, Needham\, MA\, 02492\, United States
CATEGORIES:Housing,On Our Minds,Planning Board,The Needham Channel,Town Boards,Town Growth,Transportation
ATTACH;FMTTYPE=image/png:https://needhamlocal.org/wp-content/uploads/2024/07/Needham-Planning-Board-Button.png
END:VEVENT
BEGIN:VEVENT
DTSTART;TZID=America/New_York:20250724T180000
DTEND;TZID=America/New_York:20250724T220000
DTSTAMP:20260424T005409
CREATED:20250610T143948Z
LAST-MODIFIED:20250610T143948Z
UID:10001888-1753380000-1753394400@needhamlocal.org
SUMMARY:2025 Needham Carnival
DESCRIPTION:
URL:https://needhamlocal.org/event/2025-needham-carnival/2025-07-24/
LOCATION:Needham High School\, 609 Webster Street\, Needham\, MA\, 02494\, United States
CATEGORIES:Community Event,Giving Back,Needham Rotary Club,Town Celebrations & Events
ATTACH;FMTTYPE=image/jpeg:https://needhamlocal.org/wp-content/uploads/2025/06/Needham-Rotary-Carnival.jpeg
END:VEVENT
BEGIN:VEVENT
DTSTART;TZID=America/New_York:20250725T180000
DTEND;TZID=America/New_York:20250725T220000
DTSTAMP:20260424T005409
CREATED:20250610T143948Z
LAST-MODIFIED:20250610T143948Z
UID:10001889-1753466400-1753480800@needhamlocal.org
SUMMARY:2025 Needham Carnival
DESCRIPTION:
URL:https://needhamlocal.org/event/2025-needham-carnival/2025-07-25/
LOCATION:Needham High School\, 609 Webster Street\, Needham\, MA\, 02494\, United States
CATEGORIES:Community Event,Giving Back,Needham Rotary Club,Town Celebrations & Events
ATTACH;FMTTYPE=image/jpeg:https://needhamlocal.org/wp-content/uploads/2025/06/Needham-Rotary-Carnival.jpeg
END:VEVENT
BEGIN:VEVENT
DTSTART;TZID=America/New_York:20250726T120000
DTEND;TZID=America/New_York:20250726T220000
DTSTAMP:20260424T005409
CREATED:20250610T143948Z
LAST-MODIFIED:20250610T143948Z
UID:10001890-1753531200-1753567200@needhamlocal.org
SUMMARY:2025 Needham Carnival
DESCRIPTION:
URL:https://needhamlocal.org/event/2025-needham-carnival/2025-07-26/
LOCATION:Needham High School\, 609 Webster Street\, Needham\, MA\, 02494\, United States
CATEGORIES:Community Event,Giving Back,Needham Rotary Club,Town Celebrations & Events
ATTACH;FMTTYPE=image/jpeg:https://needhamlocal.org/wp-content/uploads/2025/06/Needham-Rotary-Carnival.jpeg
END:VEVENT
BEGIN:VEVENT
DTSTART;TZID=America/New_York:20250727T120000
DTEND;TZID=America/New_York:20250727T180000
DTSTAMP:20260424T005409
CREATED:20250610T143948Z
LAST-MODIFIED:20250610T143948Z
UID:10001891-1753617600-1753639200@needhamlocal.org
SUMMARY:2025 Needham Carnival
DESCRIPTION:
URL:https://needhamlocal.org/event/2025-needham-carnival/2025-07-27/
LOCATION:Needham High School\, 609 Webster Street\, Needham\, MA\, 02494\, United States
CATEGORIES:Community Event,Giving Back,Needham Rotary Club,Town Celebrations & Events
ATTACH;FMTTYPE=image/jpeg:https://needhamlocal.org/wp-content/uploads/2025/06/Needham-Rotary-Carnival.jpeg
END:VEVENT
END:VCALENDAR