BEGIN:VCALENDAR
VERSION:2.0
PRODID:-//Needham Local - ECPv6.15.20//NONSGML v1.0//EN
CALSCALE:GREGORIAN
METHOD:PUBLISH
X-WR-CALNAME:Needham Local
X-ORIGINAL-URL:https://needhamlocal.org
X-WR-CALDESC:Events for Needham Local
REFRESH-INTERVAL;VALUE=DURATION:PT1H
X-Robots-Tag:noindex
X-PUBLISHED-TTL:PT1H
BEGIN:VTIMEZONE
TZID:America/New_York
BEGIN:DAYLIGHT
TZOFFSETFROM:-0500
TZOFFSETTO:-0400
TZNAME:EDT
DTSTART:20240310T070000
END:DAYLIGHT
BEGIN:STANDARD
TZOFFSETFROM:-0400
TZOFFSETTO:-0500
TZNAME:EST
DTSTART:20241103T060000
END:STANDARD
BEGIN:DAYLIGHT
TZOFFSETFROM:-0500
TZOFFSETTO:-0400
TZNAME:EDT
DTSTART:20250309T070000
END:DAYLIGHT
BEGIN:STANDARD
TZOFFSETFROM:-0400
TZOFFSETTO:-0500
TZNAME:EST
DTSTART:20251102T060000
END:STANDARD
BEGIN:DAYLIGHT
TZOFFSETFROM:-0500
TZOFFSETTO:-0400
TZNAME:EDT
DTSTART:20260308T070000
END:DAYLIGHT
BEGIN:STANDARD
TZOFFSETFROM:-0400
TZOFFSETTO:-0500
TZNAME:EST
DTSTART:20261101T060000
END:STANDARD
END:VTIMEZONE
BEGIN:VEVENT
DTSTART;TZID=America/New_York:20250603T190000
DTEND;TZID=America/New_York:20250603T230000
DTSTAMP:20260424T022432
CREATED:20250522T201827Z
LAST-MODIFIED:20250522T201827Z
UID:10001878-1748977200-1748991600@needhamlocal.org
SUMMARY:Needham Planning Board
DESCRIPTION:The Needham Planning Board is meeting for their first session this month. Due to the simultaneous School Committee meeting\, we will be providing live coverage on our Municipal Channel only. The town will also have the hybrid feed available through Zoom\, and look for the Needham Channel to subsequently air and stream the meeting through the Municipal Channel\, HD Channel\, online\, and through our Roku App.
URL:https://needhamlocal.org/event/needham-planning-board-16/
LOCATION:Public Services Administration Building\, 500 Dedham Avenue\, Needham\, MA\, 02492\, United States
CATEGORIES:Housing,On Our Minds,Planning Board,The Needham Channel,Town Boards,Town Growth,Transportation
ATTACH;FMTTYPE=image/png:https://needhamlocal.org/wp-content/uploads/2024/07/Needham-Planning-Board-Button.png
END:VEVENT
BEGIN:VEVENT
DTSTART;TZID=America/New_York:20250604T190000
DTEND;TZID=America/New_York:20250604T210000
DTSTAMP:20260424T022432
CREATED:20250522T202300Z
LAST-MODIFIED:20250522T202433Z
UID:10001880-1749063600-1749070800@needhamlocal.org
SUMMARY:Tree Preservation Listening Session
DESCRIPTION:The Town recently launched a Tree Preservation Planning Committee and wants to hear from you! What questions\, ideas\, or concerns do you have about trees in Needham? What do you want the Committee to know or keep in mind as they begin their work? \nJoin them at a public listening session to share your thoughts at a Public Listening Session on \nWednesday\, June 4th at 7 pm in Powers Hall in Needham Town Hall and via Zoom. \nIf you are not able to attend\, please share your feedback by email to otm@needhamma.gov.
URL:https://needhamlocal.org/event/tree-preservation-listening-session/
LOCATION:Needham Town Hall – Powers Hall\, 1471 Highland Avenue\, Needham\, MA\, 02492\, United States
CATEGORIES:Climate and Sustainability,Municipal Organizations,On Our Minds,Town Boards,Town Growth
END:VEVENT
BEGIN:VEVENT
DTSTART;TZID=America/New_York:20250608T150000
DTEND;TZID=America/New_York:20250608T170000
DTSTAMP:20260424T022432
CREATED:20250522T200913Z
LAST-MODIFIED:20250522T200913Z
UID:10001874-1749394800-1749402000@needhamlocal.org
SUMMARY:Race Amity Day 2025
DESCRIPTION:Needham Celebrates Race Amity Day\nand the\nDedication of the Richard Fry Plaque\nThis event is being held rain or shine. Enjoy food\, crafts\, and live music.\nRace Amity celebrates the friendships between people of different races and cultures\, and recognizes the collaborations which advance equity and social justice. Everyone welcome! \nSponsored by the Needham Diversity Initiative\, Needham Human Rights Committee\, Green Needham\, and the Needham History Center.\nMore information at NeedhamDiversity.org.
URL:https://needhamlocal.org/event/race-amity-day-2025/
LOCATION:Avery Field\, 355 Webster Street\, Needham\, MA\, 02494\, United States
CATEGORIES:Community Event,Diversity, Equity & Inclusion,Needham History Center & Museum,On Our Minds,Town Celebrations & Events
END:VEVENT
BEGIN:VEVENT
DTSTART;TZID=America/New_York:20250609T190000
DTEND;TZID=America/New_York:20250609T210000
DTSTAMP:20260424T022432
CREATED:20250522T202611Z
LAST-MODIFIED:20250522T202914Z
UID:10001881-1749495600-1749502800@needhamlocal.org
SUMMARY:Large House Public Input Meeting
DESCRIPTION:On June 9th. the Large House Review Committee (LHRC) will be hosting a Public Input Meeting in Powers Hall in Needham Town Hall and via Zoom to solicit feedback from the community. The purpose of this meeting is for LHRC to provide an outline of the work that the Committee has completed to date and to hold a public comment period and listening session. \nThe Committee hopes to learn more about residents’ feedback on the large house teardown issue and whether the community believes the Town should be more aggressively regulating/moderating house size than it currently does.
URL:https://needhamlocal.org/event/large-house-public-input-meeting/
LOCATION:Needham Town Hall – Powers Hall\, 1471 Highland Avenue\, Needham\, MA\, 02492\, United States
CATEGORIES:Business & Economy,Municipal Organizations,On Our Minds,Planning Board,Town Boards,Town Growth
END:VEVENT
BEGIN:VEVENT
DTSTART;TZID=America/New_York:20250613T090000
DTEND;TZID=America/New_York:20250613T103000
DTSTAMP:20260424T022432
CREATED:20250522T204444Z
LAST-MODIFIED:20250522T204444Z
UID:10001886-1749805200-1749810600@needhamlocal.org
SUMMARY:Pollard Closing Ceremony
DESCRIPTION:This event will be covered by the Needham Channel\, and will air on its Community\, Education and HD Channels. It will also stream on the Needham Channel website (www.needhamchannel.org) and on the Needham Channel app on Roku. The rain date for this event is Thursday\, June 13. Rain Date: Monday\, June 16th.
URL:https://needhamlocal.org/event/pollard-closing-ceremony/
LOCATION:Pollard School\, Needham\, MA\, 02492\, United States
CATEGORIES:Needham Public Schools,Town Celebrations & Events
END:VEVENT
BEGIN:VEVENT
DTSTART;TZID=America/New_York:20250614T100000
DTEND;TZID=America/New_York:20250614T150000
DTSTAMP:20260424T022432
CREATED:20250422T154808Z
LAST-MODIFIED:20250522T170148Z
UID:10001518-1749895200-1749913200@needhamlocal.org
SUMMARY:Needham Garden Tour
DESCRIPTION:The Needham Women’s Club will host the 2025 Needham Garden Tour on Saturday\, June 14\, from 10 AM to 3 PM. The tour will feature a diverse array of local gardens\, showcasing everything from lush landscapes to creative backyard retreats. Visitors will have the opportunity to stroll through beautiful settings\, gain inspiration for their own gardening endeavors\, and connect with fellow garden enthusiasts. When checking in for the tour at the Needham History Center\, there will be a Maker’s Market featuring local artisans offering a wonderful selection of handmade goods. There will also be a raffle for containers and floral arrangements on display at the History Center and gardeners’ homes. Proceeds will support the various Needham charitable organizations.
URL:https://needhamlocal.org/event/needham-garden-tour/
LOCATION:Needham History Center & Museum\, 1147 Central Ave.\, Needham\, MA\, 02492\, United States
CATEGORIES:Climate and Sustainability,Community Event,Needham History Center & Museum,Needham Women's Club,Town Celebrations & Events
ATTACH;FMTTYPE=image/jpeg:https://needhamlocal.org/wp-content/uploads/2025/04/Needham-Garden-Tour.jpg
END:VEVENT
BEGIN:VEVENT
DTSTART;TZID=America/New_York:20250617T190000
DTEND;TZID=America/New_York:20250617T230000
DTSTAMP:20260424T022432
CREATED:20250522T201843Z
LAST-MODIFIED:20250522T201913Z
UID:10001879-1750186800-1750201200@needhamlocal.org
SUMMARY:Needham Planning Board
DESCRIPTION:The Needham Planning Board is meeting for their second session this month. Due to the simultaneous School Committee meeting\, we will be providing live coverage on our Municipal Channel only. The town will also have the hybrid feed available through Zoom\, and look for the Needham Channel to subsequently air and stream the meeting through the Municipal Channel\, HD Channel\, online\, and through our Roku App.
URL:https://needhamlocal.org/event/needham-planning-board-17/
LOCATION:Public Services Administration Building\, 500 Dedham Avenue\, Needham\, MA\, 02492\, United States
CATEGORIES:Housing,On Our Minds,Planning Board,The Needham Channel,Town Boards,Town Growth,Transportation
ATTACH;FMTTYPE=image/png:https://needhamlocal.org/wp-content/uploads/2024/07/Needham-Planning-Board-Button.png
END:VEVENT
BEGIN:VEVENT
DTSTART;TZID=America/New_York:20250619T093000
DTEND;TZID=America/New_York:20250619T100000
DTSTAMP:20260424T022432
CREATED:20250616T133806Z
LAST-MODIFIED:20250616T133806Z
UID:10001892-1750325400-1750327200@needhamlocal.org
SUMMARY:Juneteenth Observation
DESCRIPTION:Join your neighbors and local and state leaders for a recitation of the Emancipation Proclamation\, remarks\, and reflection in observance of Juneteenth.  The event will be held on Town Common\, in front of Town Hall\, on Thursday\, June 19th at 9:30 am. All are welcome!
URL:https://needhamlocal.org/event/juneteenth-observation/
LOCATION:Needham Town Common\, Garrity's Way\, Needham\, MA\, 02492\, United States
CATEGORIES:Community Event,Town Celebrations & Events
ATTACH;FMTTYPE=image/jpeg:https://needhamlocal.org/wp-content/uploads/2025/06/Juneteenth-2025.jpg
END:VEVENT
BEGIN:VEVENT
DTSTART;TZID=America/New_York:20250621T120000
DTEND;TZID=America/New_York:20250621T130000
DTSTAMP:20260424T022432
CREATED:20250616T134429Z
LAST-MODIFIED:20250616T134429Z
UID:10001893-1750507200-1750510800@needhamlocal.org
SUMMARY:Ron Sockol Celebration Bench Dedication
DESCRIPTION:Saturday\, June 21st at 12:00 PM at Memorial Park \nCelebrate the many wonderful contributions Ron has made to Needham’s community including his work helping revitalize Memorial Park\, where his new celebration bench will be dedicated. \nPlease Join Us Saturday June 21st\nAt 12:00 pm To Honor Ron And His Wonderful “Can Do” Spirit!
URL:https://needhamlocal.org/event/ron-sockol-celebration-bench-dedication/
LOCATION:Memorial Park\, Needham\, Needham\, MA\, 02494\, United States
CATEGORIES:Community Event,Giving Back,Municipal Organizations
END:VEVENT
END:VCALENDAR