BEGIN:VCALENDAR
VERSION:2.0
PRODID:-//Needham Local - ECPv6.15.20//NONSGML v1.0//EN
CALSCALE:GREGORIAN
METHOD:PUBLISH
X-WR-CALNAME:Needham Local
X-ORIGINAL-URL:https://needhamlocal.org
X-WR-CALDESC:Events for Needham Local
REFRESH-INTERVAL;VALUE=DURATION:PT1H
X-Robots-Tag:noindex
X-PUBLISHED-TTL:PT1H
BEGIN:VTIMEZONE
TZID:America/New_York
BEGIN:DAYLIGHT
TZOFFSETFROM:-0500
TZOFFSETTO:-0400
TZNAME:EDT
DTSTART:20240310T070000
END:DAYLIGHT
BEGIN:STANDARD
TZOFFSETFROM:-0400
TZOFFSETTO:-0500
TZNAME:EST
DTSTART:20241103T060000
END:STANDARD
BEGIN:DAYLIGHT
TZOFFSETFROM:-0500
TZOFFSETTO:-0400
TZNAME:EDT
DTSTART:20250309T070000
END:DAYLIGHT
BEGIN:STANDARD
TZOFFSETFROM:-0400
TZOFFSETTO:-0500
TZNAME:EST
DTSTART:20251102T060000
END:STANDARD
BEGIN:DAYLIGHT
TZOFFSETFROM:-0500
TZOFFSETTO:-0400
TZNAME:EDT
DTSTART:20260308T070000
END:DAYLIGHT
BEGIN:STANDARD
TZOFFSETFROM:-0400
TZOFFSETTO:-0500
TZNAME:EST
DTSTART:20261101T060000
END:STANDARD
BEGIN:DAYLIGHT
TZOFFSETFROM:-0500
TZOFFSETTO:-0400
TZNAME:EDT
DTSTART:20270314T070000
END:DAYLIGHT
BEGIN:STANDARD
TZOFFSETFROM:-0400
TZOFFSETTO:-0500
TZNAME:EST
DTSTART:20271107T060000
END:STANDARD
END:VTIMEZONE
BEGIN:VEVENT
DTSTART;TZID=America/New_York:20260407T183000
DTEND;TZID=America/New_York:20260407T200000
DTSTAMP:20260419T120755
CREATED:20260319T203940Z
LAST-MODIFIED:20260319T203940Z
UID:10002152-1775586600-1775592000@needhamlocal.org
SUMMARY:Pastel Demonstration with Janet Schwartz
DESCRIPTION:Needham Art Association and the Wellesley Society of Artists welcome Janet Schwartz for a pastel demonstration. The driving force behind Janet’s figurative paintings is the connection between people and/or the environment. In this demo\, Janet will focus on capturing the gesture and mood in a figurative painting to tell a story.    \n This event will be held at the Needham Free Public Library and is free and open to the public. 
URL:https://needhamlocal.org/event/pastel-demonstration-with-janet-schwartz/
LOCATION:Needham Public Library\, 1132 Highland Avenue\, Needham\, MA\, 02492\, United States
CATEGORIES:Needham Art Association
ATTACH;FMTTYPE=image/png:https://needhamlocal.org/wp-content/uploads/2026/03/NAAWSA-April26-horz.png
ORGANIZER;CN="Needham Art Association":MAILTO:hilary@hansonbruel.com
END:VEVENT
BEGIN:VEVENT
DTSTART;TZID=America/New_York:20260303T183000
DTEND;TZID=America/New_York:20260303T203000
DTSTAMP:20260419T120755
CREATED:20260213T172240Z
LAST-MODIFIED:20260213T172240Z
UID:10002120-1772562600-1772569800@needhamlocal.org
SUMMARY:Landscape Painting Demonstration with Martha Doolin
DESCRIPTION:For Needham Art Association’s March program\, Martha Doolin will join us for a demonstration of landscape painting. Drawing inspiration from a lifetime of living in New England\, Martha’s work captures the region’s changeable seasonal nature. She believes that being outside is vital for the soul and paints directly from life\, responding instinctively to the immediate environment.  We hope you can join us!   \nThis event is free and open to the public. 
URL:https://needhamlocal.org/event/landscape-painting-demonstration-with-martha-doolin/
LOCATION:Needham Public Library\, 1132 Highland Avenue\, Needham\, MA\, 02492\, United States
CATEGORIES:Needham Art Association
ATTACH;FMTTYPE=image/png:https://needhamlocal.org/wp-content/uploads/2026/02/NAA-Program-Mar-horz.png
ORGANIZER;CN="Needham Art Association":MAILTO:hilary@hansonbruel.com
END:VEVENT
BEGIN:VEVENT
DTSTART;TZID=America/New_York:20260222T140000
DTEND;TZID=America/New_York:20260222T160000
DTSTAMP:20260419T120755
CREATED:20260204T185317Z
LAST-MODIFIED:20260204T185317Z
UID:10002113-1771768800-1771776000@needhamlocal.org
SUMMARY:Community Art Supply Swap
DESCRIPTION:Needham Art Association is excited to be hosting our first-ever community art supply swap! We hope you can join us on Sunday\, February 22\, between 2:00 and 4:00pm at Gorse Mill Gallery for this opportunity to connect with other artists and share resources. \nThis event is free and open to the public. Details and guidelines can be found on our website.
URL:https://needhamlocal.org/event/community-art-supply-swap/
LOCATION:Gorse Mill Gallery\, 31 Thorpe Street\, Needham\, MA\, 02494\, United States
CATEGORIES:Needham Art Association
ATTACH;FMTTYPE=image/png:https://needhamlocal.org/wp-content/uploads/2026/02/NAA-ArtSwap-Horz.png
ORGANIZER;CN="Needham Art Association":MAILTO:hilary@hansonbruel.com
END:VEVENT
BEGIN:VEVENT
DTSTART;TZID=America/New_York:20260208T163000
DTEND;TZID=America/New_York:20260208T180000
DTSTAMP:20260419T120755
CREATED:20260128T172701Z
LAST-MODIFIED:20260128T172701Z
UID:10002101-1770568200-1770573600@needhamlocal.org
SUMMARY:“Shared Light” Art Exhibit Reception 
DESCRIPTION:Needham Art Association presents “Shared Light\,” a themed exhibit on view at Gorse Mill Gallery during the month of February. Please join us for the opening reception on Sunday\, February 8\, 4:30-6:00pm (you can be home in time for the Super Bowl kick-off!).
URL:https://needhamlocal.org/event/shared-light-art-exhibit-reception/
LOCATION:Gorse Mill Gallery\, 31 Thorpe Street\, Needham\, MA\, 02494\, United States
CATEGORIES:Needham Art Association
ATTACH;FMTTYPE=image/png:https://needhamlocal.org/wp-content/uploads/2026/01/NAA-SharedLight-Horz.png
ORGANIZER;CN="Needham Art Association":MAILTO:hilary@hansonbruel.com
END:VEVENT
BEGIN:VEVENT
DTSTART;TZID=America/New_York:20260106T183000
DTEND;TZID=America/New_York:20260106T203000
DTSTAMP:20260419T120755
CREATED:20251217T174945Z
LAST-MODIFIED:20251217T174945Z
UID:10002066-1767724200-1767731400@needhamlocal.org
SUMMARY:Virtual Program: Artists Inspired by Maine
DESCRIPTION:Maine’s remote\, rocky shoreline has been a beacon to American artists for generations. For Needham Art Assoiciation’s January program\, Jane Oneail of Culturally Curious will survey the work of some of the most celebrated artists inspired by the state’s distinct landscape and way of life. The program features work by artists including Winslow Homer\, Andrew Wyeth\, and Ashley Bryan. \n   \nThis event will be hosted on Zoom and is free and open to the public\, but registration is required for non-members to receive the meeting link: https://needhamartassociation.org/programs/
URL:https://needhamlocal.org/event/virtual-program-artists-inspired-by-maine/
LOCATION:Zoom
CATEGORIES:Needham Art Association
ATTACH;FMTTYPE=image/png:https://needhamlocal.org/wp-content/uploads/2025/12/NAA-Program-Jan-horz.png
ORGANIZER;CN="Needham Art Association":MAILTO:hilary@hansonbruel.com
END:VEVENT
BEGIN:VEVENT
DTSTART;TZID=America/New_York:20251202T183000
DTEND;TZID=America/New_York:20251202T203000
DTSTAMP:20260419T120755
CREATED:20251119T182250Z
LAST-MODIFIED:20251119T182250Z
UID:10002032-1764700200-1764707400@needhamlocal.org
SUMMARY:Handmade Greeting Cards with Vidya Shyamsundar
DESCRIPTION:For Needham Art Association’s December program\, artist and NAA member Vidya Shyamsundar will lead us in a joyful mixed-media art activity. Explore the playful process of gelli printing by rolling acrylic paint onto a Gelli plate and adding texture and patterns with hand-cut stencils\, stamps\, and found objects. Then\, collage your unique prints and embellish them with thoughtful messages or materials such as beads\, mosaic pieces\, or decorative stones to create your very own one-of-a-kind holiday greeting cards. \n  \nThis event is free and open to the public. All materials and supplies will be provided — just bring your holiday spirit and creativity!
URL:https://needhamlocal.org/event/handmade-greeting-cards-with-vidya-shyamsundar/
LOCATION:Needham Public Library\, 1132 Highland Avenue\, Needham\, MA\, 02492\, United States
CATEGORIES:Needham Art Association
ATTACH;FMTTYPE=image/png:https://needhamlocal.org/wp-content/uploads/2025/11/NAA-Program-Dec-horz.png
ORGANIZER;CN="Needham Art Association":MAILTO:hilary@hansonbruel.com
END:VEVENT
BEGIN:VEVENT
DTSTART;TZID=America/New_York:20251106T183000
DTEND;TZID=America/New_York:20251106T203000
DTSTAMP:20260419T120755
CREATED:20251014T164818Z
LAST-MODIFIED:20251014T164818Z
UID:10001995-1762453800-1762461000@needhamlocal.org
SUMMARY:Painting Demonstration with Dylan McKnight
DESCRIPTION:Needham Art Association welcomes artist Dylan McKnight for a watercolor demonstration that will focus on techniques for capturing light and atmosphere in a direct\, expressive manner.  \nDylan McKnight is a New England artist who primarily works en plein air\, capturing the region’s working landscapes and people. He paints with a limited palette and expressive brushwork\, using watercolor to convey light\, structure\, and atmosphere. \nThis event is free and open to the public. 
URL:https://needhamlocal.org/event/painting-demonstration-with-dylan-mcknight/
LOCATION:Needham Public Library\, 1132 Highland Avenue\, Needham\, MA\, 02492\, United States
CATEGORIES:Needham Art Association
ATTACH;FMTTYPE=image/png:https://needhamlocal.org/wp-content/uploads/2025/10/NAA-Nov-McKnight-horz.png
ORGANIZER;CN="Needham Art Association":MAILTO:hilary@hansonbruel.com
END:VEVENT
BEGIN:VEVENT
DTSTART;TZID=America/New_York:20251007T183000
DTEND;TZID=America/New_York:20251007T201500
DTSTAMP:20260419T120755
CREATED:20250910T214607Z
LAST-MODIFIED:20250910T214607Z
UID:10001955-1759861800-1759868100@needhamlocal.org
SUMMARY:Painting Demonstration with Michele Clamp
DESCRIPTION:Needham Art Association welcomes artist Michele Clamp for a painting demonstration at the Needham Free Public Library. Michele will take us through her painting process\, starting with the overall composition\, values and shapes. She’ll focus on the “scaffolding” of the painting — getting the big shapes right in color and value. As she works\, she’ll explain her color scheme choices and the decisions behind any changes or emphasis that are important to the final piece. We hope you can join us!   \n   \nThis event is free and open to the public.  \nhttps://needhamartassociation.org/programs/
URL:https://needhamlocal.org/event/painting-demonstration-with-michele-clamp/
LOCATION:Needham Public Library\, 1132 Highland Avenue\, Needham\, MA\, 02492\, United States
CATEGORIES:Needham Art Association
ATTACH;FMTTYPE=image/png:https://needhamlocal.org/wp-content/uploads/2025/09/NAA-Program-Oct25-horz.png
ORGANIZER;CN="Needham Art Association":MAILTO:hilary@hansonbruel.com
END:VEVENT
END:VCALENDAR