BEGIN:VCALENDAR
VERSION:2.0
PRODID:-//Needham Local - ECPv6.15.20//NONSGML v1.0//EN
CALSCALE:GREGORIAN
METHOD:PUBLISH
X-WR-CALNAME:Needham Local
X-ORIGINAL-URL:https://needhamlocal.org
X-WR-CALDESC:Events for Needham Local
REFRESH-INTERVAL;VALUE=DURATION:PT1H
X-Robots-Tag:noindex
X-PUBLISHED-TTL:PT1H
BEGIN:VTIMEZONE
TZID:America/New_York
BEGIN:DAYLIGHT
TZOFFSETFROM:-0500
TZOFFSETTO:-0400
TZNAME:EDT
DTSTART:20250309T070000
END:DAYLIGHT
BEGIN:STANDARD
TZOFFSETFROM:-0400
TZOFFSETTO:-0500
TZNAME:EST
DTSTART:20251102T060000
END:STANDARD
BEGIN:DAYLIGHT
TZOFFSETFROM:-0500
TZOFFSETTO:-0400
TZNAME:EDT
DTSTART:20260308T070000
END:DAYLIGHT
BEGIN:STANDARD
TZOFFSETFROM:-0400
TZOFFSETTO:-0500
TZNAME:EST
DTSTART:20261101T060000
END:STANDARD
BEGIN:DAYLIGHT
TZOFFSETFROM:-0500
TZOFFSETTO:-0400
TZNAME:EDT
DTSTART:20270314T070000
END:DAYLIGHT
BEGIN:STANDARD
TZOFFSETFROM:-0400
TZOFFSETTO:-0500
TZNAME:EST
DTSTART:20271107T060000
END:STANDARD
END:VTIMEZONE
BEGIN:VEVENT
DTSTART;TZID=America/New_York:20260208T163000
DTEND;TZID=America/New_York:20260208T180000
DTSTAMP:20260420T064233
CREATED:20260128T172701Z
LAST-MODIFIED:20260128T172701Z
UID:10002101-1770568200-1770573600@needhamlocal.org
SUMMARY:“Shared Light” Art Exhibit Reception 
DESCRIPTION:Needham Art Association presents “Shared Light\,” a themed exhibit on view at Gorse Mill Gallery during the month of February. Please join us for the opening reception on Sunday\, February 8\, 4:30-6:00pm (you can be home in time for the Super Bowl kick-off!).
URL:https://needhamlocal.org/event/shared-light-art-exhibit-reception/
LOCATION:Gorse Mill Gallery\, 31 Thorpe Street\, Needham\, MA\, 02494\, United States
CATEGORIES:Needham Art Association
ATTACH;FMTTYPE=image/png:https://needhamlocal.org/wp-content/uploads/2026/01/NAA-SharedLight-Horz.png
ORGANIZER;CN="Needham Art Association":MAILTO:hilary@hansonbruel.com
END:VEVENT
END:VCALENDAR