BEGIN:VCALENDAR
VERSION:2.0
PRODID:-//Needham Local - ECPv6.15.20//NONSGML v1.0//EN
CALSCALE:GREGORIAN
METHOD:PUBLISH
X-WR-CALNAME:Needham Local
X-ORIGINAL-URL:https://needhamlocal.org
X-WR-CALDESC:Events for Needham Local
REFRESH-INTERVAL;VALUE=DURATION:PT1H
X-Robots-Tag:noindex
X-PUBLISHED-TTL:PT1H
BEGIN:VTIMEZONE
TZID:America/New_York
BEGIN:DAYLIGHT
TZOFFSETFROM:-0500
TZOFFSETTO:-0400
TZNAME:EDT
DTSTART:20250309T070000
END:DAYLIGHT
BEGIN:STANDARD
TZOFFSETFROM:-0400
TZOFFSETTO:-0500
TZNAME:EST
DTSTART:20251102T060000
END:STANDARD
BEGIN:DAYLIGHT
TZOFFSETFROM:-0500
TZOFFSETTO:-0400
TZNAME:EDT
DTSTART:20260308T070000
END:DAYLIGHT
BEGIN:STANDARD
TZOFFSETFROM:-0400
TZOFFSETTO:-0500
TZNAME:EST
DTSTART:20261101T060000
END:STANDARD
BEGIN:DAYLIGHT
TZOFFSETFROM:-0500
TZOFFSETTO:-0400
TZNAME:EDT
DTSTART:20270314T070000
END:DAYLIGHT
BEGIN:STANDARD
TZOFFSETFROM:-0400
TZOFFSETTO:-0500
TZNAME:EST
DTSTART:20271107T060000
END:STANDARD
END:VTIMEZONE
BEGIN:VEVENT
DTSTART;TZID=America/New_York:20260327T100000
DTEND;TZID=America/New_York:20260327T170000
DTSTAMP:20260421T205730
CREATED:20260312T164116Z
LAST-MODIFIED:20260316T125309Z
UID:10002142-1774605600-1774630800@needhamlocal.org
SUMMARY:Quinobequin Quilt Guild 2026 Quilt Show
DESCRIPTION:Mark Your Calendar for the 2026 Quilt Show!  Immerse yourself in two rooms full of colorful and creative fabric art quilts\, made by local quilters. \nQuinobequin Quilters Quilt Show \n100+ Beautiful Quilts on Display – Created by Local Artists \nFrom Traditional Quilts to Art Quilts \nFriday & Saturday\, March 27 & 28\, 2026 \n— 10 am to 5 pm — \nAdmission $10 (free for children & K-12 students) \nRaffle Quilt (see slice below)\nMini Art Quilts for Sale\nQuilt Hunt Activity for Kids! \nNeedham Masonic Lodge\n1101 Highland Ave\, Needham\, MA\n(Exit 35C off Rt. 95\, 1 mile on right) \nMore Info:  www.Quinobequin.org/quilt-show
URL:https://needhamlocal.org/event/quinobequin-quilt-guild-2026-quilt-show/
LOCATION:Needham Masonic Lodge\, 1101 Highland Avenue\, Needham\, 02492
CATEGORIES:Arts & Entertainment,Community Event
ATTACH;FMTTYPE=image/jpeg:https://needhamlocal.org/wp-content/uploads/2026/03/QQ-postcard_2026_front_ver.1_draft.jpg
ORGANIZER;CN="Quinobequin Quilters":MAILTO:QuiltShow@quinobequin.org
END:VEVENT
BEGIN:VEVENT
DTSTART;TZID=America/New_York:20260328T100000
DTEND;TZID=America/New_York:20260328T170000
DTSTAMP:20260421T205730
CREATED:20260316T125326Z
LAST-MODIFIED:20260316T125326Z
UID:10002145-1774692000-1774717200@needhamlocal.org
SUMMARY:Quinobequin Quilt Guild 2026 Quilt Show
DESCRIPTION:Mark Your Calendar for the 2026 Quilt Show!  Immerse yourself in two rooms full of colorful and creative fabric art quilts\, made by local quilters. \nQuinobequin Quilters Quilt Show \n100+ Beautiful Quilts on Display – Created by Local Artists \nFrom Traditional Quilts to Art Quilts \nFriday & Saturday\, March 27 & 28\, 2026 \n— 10 am to 5 pm — \nAdmission $10 (free for children & K-12 students) \nRaffle Quilt (see slice below)\nMini Art Quilts for Sale\nQuilt Hunt Activity for Kids! \nNeedham Masonic Lodge\n1101 Highland Ave\, Needham\, MA\n(Exit 35C off Rt. 95\, 1 mile on right) \nMore Info:  www.Quinobequin.org/quilt-show
URL:https://needhamlocal.org/event/quinobequin-quilt-guild-2026-quilt-show-2/
LOCATION:Needham Masonic Lodge\, 1101 Highland Avenue\, Needham\, 02492
CATEGORIES:Arts & Entertainment,Community Event
ATTACH;FMTTYPE=image/jpeg:https://needhamlocal.org/wp-content/uploads/2026/03/QQ-postcard_2026_front_ver.1_draft.jpg
ORGANIZER;CN="Quinobequin Quilters":MAILTO:QuiltShow@quinobequin.org
END:VEVENT
BEGIN:VEVENT
DTSTART;TZID=America/New_York:20260330T141500
DTEND;TZID=America/New_York:20260330T151500
DTSTAMP:20260421T205730
CREATED:20260302T175315Z
LAST-MODIFIED:20260302T175315Z
UID:10002136-1774880100-1774883700@needhamlocal.org
SUMMARY:Rock the Blacktop
DESCRIPTION:Rock the Blacktop is a free community public art initiative at High Rock Middle School that invites 6th grade students to collaborate in designing vibrant pavement murals for their campus. Through a series of free guided\, hands-on workshops held on March 30\, April 6 and April 13 from 2:15–3:15 PM in the High Rock Cafeteria\, participants will explore the impact of public art\, develop site-specific designs\, and prepare for a community paint event where their creative ideas will come to life. Led by muralist and art therapist Tova Speter and public art administrator Charly Nanda\, the program welcomes students of all experience levels\, encouraging creativity\, collaboration\, and community engagement. All students and High Rock families will be invited to help with the actual pavement painting in May/early June\, weather permitting. This High Rock Community Paint Jam will be a fun and inclusive event for families. Rock the Blacktop is funded by the Needham Education Foundation and the Needham Council for Arts and Culture. Register students here by March 23. Space is limited.
URL:https://needhamlocal.org/event/rock-the-blacktop/2026-03-30/
LOCATION:High Rock Middle School\, 77 Ferndale Rd\, Needham\, 02492
CATEGORIES:Arts & Entertainment
ATTACH;FMTTYPE=image/png:https://needhamlocal.org/wp-content/uploads/2026/03/High-Rock-Rock-the-Blacktop.png
ORGANIZER;CN="Charly":MAILTO:nanda4needham@gmail.com
END:VEVENT
END:VCALENDAR