BEGIN:VCALENDAR
VERSION:2.0
PRODID:-//Needham Local - ECPv6.15.20//NONSGML v1.0//EN
CALSCALE:GREGORIAN
METHOD:PUBLISH
X-ORIGINAL-URL:https://needhamlocal.org
X-WR-CALDESC:Events for Needham Local
REFRESH-INTERVAL;VALUE=DURATION:PT1H
X-Robots-Tag:noindex
X-PUBLISHED-TTL:PT1H
BEGIN:VTIMEZONE
TZID:America/New_York
BEGIN:DAYLIGHT
TZOFFSETFROM:-0500
TZOFFSETTO:-0400
TZNAME:EDT
DTSTART:20240310T070000
END:DAYLIGHT
BEGIN:STANDARD
TZOFFSETFROM:-0400
TZOFFSETTO:-0500
TZNAME:EST
DTSTART:20241103T060000
END:STANDARD
BEGIN:DAYLIGHT
TZOFFSETFROM:-0500
TZOFFSETTO:-0400
TZNAME:EDT
DTSTART:20250309T070000
END:DAYLIGHT
BEGIN:STANDARD
TZOFFSETFROM:-0400
TZOFFSETTO:-0500
TZNAME:EST
DTSTART:20251102T060000
END:STANDARD
BEGIN:DAYLIGHT
TZOFFSETFROM:-0500
TZOFFSETTO:-0400
TZNAME:EDT
DTSTART:20260308T070000
END:DAYLIGHT
BEGIN:STANDARD
TZOFFSETFROM:-0400
TZOFFSETTO:-0500
TZNAME:EST
DTSTART:20261101T060000
END:STANDARD
END:VTIMEZONE
BEGIN:VEVENT
DTSTART;TZID=America/New_York:20250510T130000
DTEND;TZID=America/New_York:20250510T150000
DTSTAMP:20260419T172453
CREATED:20250504T184026Z
LAST-MODIFIED:20250504T184026Z
UID:10001537-1746882000-1746889200@needhamlocal.org
SUMMARY:Chapel Street Mural Dedication
DESCRIPTION:Artist Mia Cross recently finished painting a continuation of the mural on the rear of the building. \nThe Needham Council for Arts and Culture (NCAC)\, will host a celebration of the mural on the side of the building in the alley way on Chapel Street. Mia Cross \, who created the mural last October\, will be on hand along with Gloria Greis\, Executive Director of the Needham History Center and Museum. They will share the history that inspired the design of the mural. Other activities include learning to knit/ finger knit\, coloring a bird card and more. You can also enter to win a free potted flower arrangement\, in time for Mother’s Day. All are welcome!
URL:https://needhamlocal.org/event/chapel-street-mural-dedication/
LOCATION:Chapel Street\, 85-93 Chapel Street\, Needham\, MA\, 02492\, United States
CATEGORIES:Arts & Entertainment,Business & Economy,Community Event,Municipal Organizations,Needham History Center & Museum
END:VEVENT
BEGIN:VEVENT
DTSTART;TZID=America/New_York:20250510T130000
DTEND;TZID=America/New_York:20250510T150000
DTSTAMP:20260419T172453
CREATED:20250504T185144Z
LAST-MODIFIED:20250504T185144Z
UID:10001539-1746882000-1746889200@needhamlocal.org
SUMMARY:Needham Community Theatre: Little Women
DESCRIPTION:This timeless and enduring play tells the tale of the March sisters’ journey from childhood to maturity during the American Civil War.  Audiences of all generations will enjoy acquainting — or reacquainting — themselves with the sisters:  Meg\, the eldest; Jo\, the high-spirited tomboy; Amy\, the self-centered beauty; and gentle Beth\, as well as their beloved Marmee and Father.  Together the March family learns to endure both good times and bad as they share the joys and pains of growing up.  Interlaced with warmth\, family loyalty\, and traditional values\, all these important events provide us with a better understanding of our own lives.  Penned by Louisa May Alcott 140 years ago\, this much-loved classic tale’s message is still relevant for us today. \nFor more information\, or to buy tickets\, visit needhamtheatre.org
URL:https://needhamlocal.org/event/needham-community-theatre-little-women/2025-05-10/
LOCATION:Newman Elementary School Auditorium\, 1155 Central Ave.\, Needham\, 02492
CATEGORIES:Arts & Entertainment,Community Event,Needham Community Theatre,Town Celebrations & Events
ATTACH;FMTTYPE=image/jpeg:https://needhamlocal.org/wp-content/uploads/2025/04/LW-FLYER-scaled.jpg
END:VEVENT
END:VCALENDAR