BEGIN:VCALENDAR
VERSION:2.0
PRODID:-//Needham Local - ECPv6.15.20//NONSGML v1.0//EN
CALSCALE:GREGORIAN
METHOD:PUBLISH
X-WR-CALNAME:Needham Local
X-ORIGINAL-URL:https://needhamlocal.org
X-WR-CALDESC:Events for Needham Local
REFRESH-INTERVAL;VALUE=DURATION:PT1H
X-Robots-Tag:noindex
X-PUBLISHED-TTL:PT1H
BEGIN:VTIMEZONE
TZID:America/New_York
BEGIN:DAYLIGHT
TZOFFSETFROM:-0500
TZOFFSETTO:-0400
TZNAME:EDT
DTSTART:20240310T070000
END:DAYLIGHT
BEGIN:STANDARD
TZOFFSETFROM:-0400
TZOFFSETTO:-0500
TZNAME:EST
DTSTART:20241103T060000
END:STANDARD
BEGIN:DAYLIGHT
TZOFFSETFROM:-0500
TZOFFSETTO:-0400
TZNAME:EDT
DTSTART:20250309T070000
END:DAYLIGHT
BEGIN:STANDARD
TZOFFSETFROM:-0400
TZOFFSETTO:-0500
TZNAME:EST
DTSTART:20251102T060000
END:STANDARD
BEGIN:DAYLIGHT
TZOFFSETFROM:-0500
TZOFFSETTO:-0400
TZNAME:EDT
DTSTART:20260308T070000
END:DAYLIGHT
BEGIN:STANDARD
TZOFFSETFROM:-0400
TZOFFSETTO:-0500
TZNAME:EST
DTSTART:20261101T060000
END:STANDARD
END:VTIMEZONE
BEGIN:VEVENT
DTSTART;TZID=America/New_York:20250430T130000
DTEND;TZID=America/New_York:20250430T150000
DTSTAMP:20260419T133857
CREATED:20250401T170206Z
LAST-MODIFIED:20250401T170206Z
UID:10001512-1746018000-1746025200@needhamlocal.org
SUMMARY:One Wingate Way East: Sip and Discover April 30 1:00-3:00
DESCRIPTION:Sip and Discover \nWednesday April 30 1:00-3:00 pm \nLocated at the crossroads of Needham\, Newton\, Weston and\nWellesley\, One Wingate Way East is set to be a welcoming boutique style independent living community. Offering personalized amenities\nand services for those embracing an independent lifestyle\, it’s all\nabout comfort\, convenience\, and wellness. Come sip and learn more\nabout our new project—join us for a tour of our model unit!\nOne Bedroom Units Starting at $399\,000
URL:https://needhamlocal.org/event/one-wingate-way-east-sip-and-discover-april-30-100-300/
LOCATION:One Wingate Way\, 235 Gould Street\, Needham\, 02494
END:VEVENT
END:VCALENDAR